BEGIN:VCALENDAR
VERSION:2.0
PRODID:-//ChamberMaster//Event Calendar 2.0//EN
METHOD:PUBLISH
X-PUBLISHED-TTL:P3D
REFRESH-INTERVAL:P3D
CALSCALE:GREGORIAN
BEGIN:VEVENT
DTSTART;VALUE=DATE:20200620
DTEND;VALUE=DATE:20200621
TRANSP:TRANSPARENT
X-MICROSOFT-CDO-ALLDAYEVENT:TRUE
SUMMARY:50th Annual Maine Lakes Conference
DESCRIPTION:Our Mission The mission of the Maine Lakes is to SAVE MAINE'S LAKES   to protect and preserve the values and benefits of Maine's lakes\, ponds\, and watersheds for future generations   through science-based action\, education and advocacy. Our Vision We believe in the future of Maine lakes. Through our efforts\, we will ensure the protection of our cherished lakes for today and for future generations.
X-ALT-DESC;FMTTYPE=text/html:Our Mission The mission of the Maine Lakes is to SAVE MAINE&rsquo\;S LAKES &ndash\; to protect and preserve the values and benefits of Maine&rsquo\;s lakes\, ponds\, and watersheds for future generations &ndash\; through science-based action\, education and advocacy. Our Vision We believe in the future of Maine lakes. Through our efforts\, we will ensure the protection of our cherished lakes for today and for future generations.
LOCATION:University of Maine Hutchinson Center 80 Belmont Avenue Belfast\, Maine 04915 207-338-8000
UID:e.3098.2674
SEQUENCE:3
DTSTAMP:20260422T155031Z
URL:https://business.belfastmaine.org/events/details/50th-annual-maine-lakes-conference-2674
END:VEVENT

END:VCALENDAR
