BEGIN:VCALENDAR
VERSION:2.0
PRODID:-//ChamberMaster//Event Calendar 2.0//EN
METHOD:PUBLISH
X-PUBLISHED-TTL:P3D
REFRESH-INTERVAL:P3D
CALSCALE:GREGORIAN
BEGIN:VEVENT
DTSTART:20200911T113000Z
DTEND:20200911T200000Z
X-MICROSOFT-CDO-ALLDAYEVENT:FALSE
SUMMARY:5th Annual Belfast Dental Cares Day
DESCRIPTION:Come out for a day of FREE dental services for uninsured Maine residents. Eligible procedures include extractions\, fillings\, and cleanings!
X-ALT-DESC;FMTTYPE=text/html:Come out for a day of FREE dental services for uninsured Maine residents. Eligible procedures include extractions\, fillings\, and cleanings!
LOCATION:19 Fahy Street\, Belfast\, ME 04915
UID:e.3098.3403
SEQUENCE:3
DTSTAMP:20260422T104406Z
URL:https://business.belfastmaine.org/events/details/5th-annual-belfast-dental-cares-day-3403
END:VEVENT

END:VCALENDAR
