BEGIN:VCALENDAR
VERSION:2.0
PRODID:-//ChamberMaster//Event Calendar 2.0//EN
METHOD:PUBLISH
X-PUBLISHED-TTL:P3D
REFRESH-INTERVAL:P3D
CALSCALE:GREGORIAN
BEGIN:VEVENT
DTSTART:20260516T220000Z
DTEND:20260517T000000Z
X-MICROSOFT-CDO-ALLDAYEVENT:FALSE
SUMMARY:A Tavola: An Italian Benefit Dinner for Family Harbor House
DESCRIPTION:Please join us for a delicious 3-course meal especially prepared by Chef Raymelle Moody and Chef Jeff Locke to benefit the Family Harbor House!  It's a special event that you won't want to miss. The menu includes an appetizer\, your choice of entree and dessert (vegetarian and gluten-free options available). Thank you for supporting our mission. Your support is invaluable. The cost is $40 per person. \n\n \n\nClick HERE to sign up\, make meal selections\, and pay by credit card. (https://www.zeffy.com/en-US/ticketing/a-travola-an-italian-benefit-dinner-for-the-family-harbor-house)\n\n \n\n1st Course: Garden salad & bread\n\n \n\n2nd Course Options:\n\n -  Meat lasagna\n\n -  Chicken marsala\n\n -  Shrimp or veggie scampi (with a GF pasta option): Shrimp scampi / GF shrimp scampi / Veggie scampi  / GF veggie scampi\n\n \n\n 3rd Course Options: Tiramisu / B te Noire (GF option)
X-ALT-DESC;FMTTYPE=text/html:<div>Please join us for a delicious 3-course meal especially prepared by Chef Raymelle Moody and Chef Jeff Locke to benefit the Family Harbor House!&nbsp\; It&#39\;s a special event that you won&#39\;t want to miss. The menu includes an appetizer\, your choice of entree and dessert (vegetarian and gluten-free options available). Thank you for supporting our mission. Your support is invaluable. The cost is $40 per person.&nbsp\;</div>\n\n<div>&nbsp\;</div>\n\n<div><span style="color:rgb(75\, 84\, 104)"><a href="https://www.zeffy.com/en-US/ticketing/a-travola-an-italian-benefit-dinner-for-the-family-harbor-house" id="m_3975575611766948318m_-7384359085895572633m_716458375838687815OWA66f4687d-6a50-9394-a16d-ef412900c988" style="color: rgb(75\, 84\, 104)\;" target="_blank"><strong><u>Click HERE</u></strong></a></span>&nbsp\;to sign up\, make meal selections\, and pay by credit card. (<a href="https://www.zeffy.com/en-US/ticketing/a-travola-an-italian-benefit-dinner-for-the-family-harbor-house" style="color: rgb(17\, 85\, 204)\;" target="_blank">https://www.zeffy.com/en-US/ticketing/a-travola-an-italian-benefit-dinner-for-the-family-harbor-house</a>)</div>\n\n<div>&nbsp\;</div>\n\n<div>1st Course: Garden salad &amp\; bread</div>\n\n<div>&nbsp\;</div>\n\n<div>2nd Course Options:</div>\n\n<div>&nbsp\;-&nbsp\; Meat lasagna<br />\n&nbsp\;-&nbsp\; Chicken marsala<br />\n&nbsp\;-&nbsp\; Shrimp or veggie scampi (with a GF pasta option): Shrimp scampi / GF shrimp scampi / Veggie scampi&nbsp\; / GF veggie scampi</div>\n\n<div>&nbsp\;</div>\n\n<div>&nbsp\;3rd Course Options: Tiramisu / B&ecirc\;te Noire (GF option)</div>\n
LOCATION:Belfast United Methodist Church\, 23 Mill Lane\, Belfast
UID:e.3098.12775
SEQUENCE:3
DTSTAMP:20260423T052217Z
URL:https://business.belfastmaine.org/events/details/a-tavola-an-italian-benefit-dinner-for-family-harbor-house-12775
END:VEVENT

END:VCALENDAR
