BEGIN:VCALENDAR
VERSION:2.0
PRODID:-//ChamberMaster//Event Calendar 2.0//EN
METHOD:PUBLISH
X-PUBLISHED-TTL:P3D
REFRESH-INTERVAL:P3D
CALSCALE:GREGORIAN
BEGIN:VEVENT
DTSTART:20191116T220000Z
DTEND:20191117T020000Z
X-MICROSOFT-CDO-ALLDAYEVENT:FALSE
SUMMARY:Annual Awards Night - Belfast Area Chamber of Commerce
DESCRIPTION:This year's Annual Chamber Awards will be presented at the Chamber's Annual Awards Night on Saturday\, November 16th at the Hutchinson Center.  The reception begins at 5 pm\, featuring a cash bar and a range of catered hearty appetizers for your enjoyment.  A very brief Chamber membership meeting and the Annual Award presentations follow at 6:30 pm\, with dessert at 7:30 pm. Camden National Bank is the generous Major Sponsor for the event.\n\n\n\nSponsorships are available at a range of price-points for Chamber members!  Click here and contact the Chamber to secure your spot!  \n\n\n\nClick "Register Now" for tickets for the event\, or contact the Chamber at 207 338-5900.
X-ALT-DESC;FMTTYPE=text/html:<span style="color:#292B2C\;"><span style="font-family:arial\,sans-serif\;"><span style="font-size:13.0pt\;">This year&rsquo\;s Annual Chamber Awards will be presented at the Chamber&rsquo\;s Annual Awards Night on Saturday\, November 16</span></span></span><sup><span style="color:#292B2C\;"><span style="font-family:arial\,sans-serif\;"><span style="font-size:9.5pt\;">th</span></span></span></sup><span style="color:#292B2C\;"><span style="font-family:arial\,sans-serif\;"><span style="font-size:13.0pt\;">&nbsp\;at the Hutchinson Center.&nbsp\; The reception begins at 5 pm\, featuring a cash bar and a range of catered hearty appetizers for your enjoyment.&nbsp\; A very brief Chamber membership meeting and the Annual Award presentations follow at 6:30 pm\, with dessert at 7:30 pm. Camden National Bank is the generous Major Sponsor for the event.</span></span></span><br />\n<br />\n<span style="color:red\;"><span style="font-family:arial\,sans-serif\;"><span style="font-size:13.0pt\;">Sponsorships are available at a range of price-points for Chamber members!&nbsp\; </span></span></span><a href="https://chambermaster.blob.core.windows.net/userfiles/UserFiles/chambers/3098/File/59thChamberAwardsNightsponsorshiplevels2019.pdf" style="font-size: 16px\;">Click here</a><span style="font-size: 14px\;">&nbsp\;</span><span style="color:red\;"><span style="font-family:arial\,sans-serif\;"><span style="font-size:13.0pt\;">and contact the Chamber to secure your spot!&nbsp\; </span></span></span><br />\n<br />\n<span style="font-family: arial\, sans-serif\;"><span style="font-size: 13pt\;"><font color="#292b2c">Click &quot\;Register Now&quot\; for tickets for the event\, or</font></span></span><span style="color:#292B2C\;"><span style="font-family:arial\,sans-serif\;"><span style="font-size:13.0pt\;">&nbsp\;contact the Chamber at 207 338-5900.</span></span></span>
LOCATION:The Hutchinson Center at 80 Belmont Ave. in Belfast
UID:e.3098.612
SEQUENCE:3
DTSTAMP:20260423T033236Z
URL:https://business.belfastmaine.org/events/details/annual-awards-night-belfast-area-chamber-of-commerce-612
END:VEVENT

END:VCALENDAR
