BEGIN:VCALENDAR
VERSION:2.0
PRODID:-//ChamberMaster//Event Calendar 2.0//EN
METHOD:PUBLISH
X-PUBLISHED-TTL:P3D
REFRESH-INTERVAL:P3D
CALSCALE:GREGORIAN
BEGIN:VEVENT
DTSTART:20200422T220000Z
DTEND:20200422T224000Z
X-MICROSOFT-CDO-ALLDAYEVENT:FALSE
SUMMARY:April Business After Hours
DESCRIPTION:Join the Belfast Area Chamber of Commerce for their April business networking event via ZOOM Video Conference\, hosted by Perry's Home Furnishings & Design!\n\n\n\nIn this difficult time\, we still wish to connect our business friends and neighbors with each other in a positive way! We will hear from Kim Perry\, Steve Ryan\, and from those tuning in for brief updates as well that wish to share.\n\n\n\nZOOM Link - https://us04web.zoom.us/j/75020331575?pwd=aGlCdkVRcTNDeGpiM01ROHo2TGNwUT09 \n\nVideo Conference duration: 40 minutes
X-ALT-DESC;FMTTYPE=text/html:<span style="color: rgb(29\, 33\, 41)\; font-family: Helvetica\, Arial\, sans-serif\; font-size: 14px\; white-space: pre-wrap\;">Join the Belfast Area Chamber of Commerce for their April business networking event via ZOOM Video Conference\, hosted by Perry&#39\;s Home Furnishings &amp\; Design!</span><br style="color: rgb(29\, 33\, 41)\; font-family: Helvetica\, Arial\, sans-serif\; font-size: 14px\; white-space: pre-wrap\;" />\n<br style="color: rgb(29\, 33\, 41)\; font-family: Helvetica\, Arial\, sans-serif\; font-size: 14px\; white-space: pre-wrap\;" />\n<span style="color: rgb(29\, 33\, 41)\; font-family: Helvetica\, Arial\, sans-serif\; font-size: 14px\; white-space: pre-wrap\;">In this difficult time\, we still wish to connect our business friends and neighbors with each other in a positive way! We will hear from Kim Perry\, Steve Ryan\, and from those tuning in for brief updates as well that wish to share.</span><br style="color: rgb(29\, 33\, 41)\; font-family: Helvetica\, Arial\, sans-serif\; font-size: 14px\; white-space: pre-wrap\;" />\n<br style="color: rgb(29\, 33\, 41)\; font-family: Helvetica\, Arial\, sans-serif\; font-size: 14px\; white-space: pre-wrap\;" />\n<span style="color: rgb(29\, 33\, 41)\; font-family: Helvetica\, Arial\, sans-serif\; font-size: 14px\; white-space: pre-wrap\;">ZOOM Link - </span><a data-auth="NotApplicable" href="https://us04web.zoom.us/j/75020331575?pwd=aGlCdkVRcTNDeGpiM01ROHo2TGNwUT09" id="LPlnk173300" rel="noopener noreferrer" style="margin: 0px\; padding: 0px\; border: 0px\; font-variant-numeric: inherit\; font-variant-east-asian: inherit\; font-stretch: inherit\; font-size: 14.6667px\; line-height: inherit\; font-family: &quot\;Times New Roman&quot\;\, serif\; vertical-align: baseline\;" target="_blank">https://us04web.zoom.us/j/75020331575?pwd=aGlCdkVRcTNDeGpiM01ROHo2TGNwUT09</a>&nbsp\;<br style="color: rgb(29\, 33\, 41)\; font-family: Helvetica\, Arial\, sans-serif\; font-size: 14px\; white-space: pre-wrap\;" />\n<span style="color: rgb(29\, 33\, 41)\; font-family: Helvetica\, Arial\, sans-serif\; font-size: 14px\; white-space: pre-wrap\;">Video Conference duration: 40 minutes</span>
LOCATION:ZOOM Video Conference
UID:e.3098.3296
SEQUENCE:3
DTSTAMP:20260422T190908Z
URL:https://business.belfastmaine.org/events/details/april-business-after-hours-3296
END:VEVENT

END:VCALENDAR
