BEGIN:VCALENDAR
VERSION:2.0
PRODID:-//ChamberMaster//Event Calendar 2.0//EN
METHOD:PUBLISH
X-PUBLISHED-TTL:P3D
REFRESH-INTERVAL:P3D
CALSCALE:GREGORIAN
BEGIN:VEVENT
DTSTART:20250118T160000Z
DTEND:20250118T170000Z
X-MICROSOFT-CDO-ALLDAYEVENT:FALSE
SUMMARY:Auditions for "The Curious Incident of the Dog in the Night-time"
DESCRIPTION:TIME: Monday\, January 13 from 6:30pm-7:30pm or Saturday\, January 18 from 11:00am-12:00pm (auditioners need only attend one day).*  ?Please be on time and present for the entire hour of the audition.\n\nPRODUCTION DATES: April 25 - May 4\, with a preview night on April 24\n\n*If you are interested in auditioning but unable to attend either audition date\, please reach out to director Stephanie Natale Frus at JDTsteph@gmail.com in advance.\nThis play\, by Simon Stevens based on a novel by Mark Haddon\, and set in modern-day England is a dark\, dramatic\, engaging\, active\, demanding\, deeply-human neighborhood mystery seen through the eyes of an autistic teen.\n\nThis is an ensemble piece with many moving parts. The ideal cast is teamwork-driven and has a wide variety of skills to bring to the table. A strong desire to create specifically-choreographed and compelling\, complex theatre is required.\n\nThe four principal roles have the vast majority of the lines. Christopher and Ed require strong memorization. Other cast members have minimal line memorization requirements\, but lots of choreography memorization requirements. All cast members must be able and willing to move their bodies quickly\, lift up to 20lbs\, and use their voice to create sounds and noises that one might consider animalistic. Humming\, buzzing\, clicking\, and other forms of vocal play will be utilized live on stage.
X-ALT-DESC;FMTTYPE=text/html:<p><strong>TIME: </strong>Monday\, January 13 from 6:30pm-7:30pm or Saturday\, January 18 from 11:00am-12:00pm (auditioners need only attend one day).* &nbsp\;<strong>?Please be on time and present for the entire hour of the audition.</strong></p>\n\n<p><strong>PRODUCTION DATES:&nbsp\;</strong>April 25 - May 4\, with a preview night on April 24</p>\n\n<p>*If you are interested in auditioning&nbsp\;but unable to attend either audition date\, please reach out to director <strong>Stephanie&nbsp\;Natale Frus</strong> at&nbsp\;<a href="mailto:JDTsteph@gmail.com">JDTsteph@gmail.com</a>&nbsp\;in advance.</p>\nThis play\, by Simon Stevens based on a novel by Mark Haddon\, and set in modern-day England is a dark\, dramatic\, engaging\, active\, demanding\, deeply-human neighborhood mystery seen through the eyes of an autistic teen.\n\n<p>This is an ensemble piece with many moving parts. The ideal cast is teamwork-driven and has a wide variety of skills to bring to the table. A strong desire to create specifically-choreographed and compelling\, complex theatre is required.</p>\n\n<p>The four principal roles&nbsp\;have the vast majority of the lines. Christopher and Ed&nbsp\;require strong memorization. Other cast members have minimal line memorization requirements\, but lots of choreography memorization requirements. All cast members must be able and willing to move their bodies quickly\, lift up to 20lbs\, and use their voice to create sounds and noises that one might consider animalistic. Humming\, buzzing\, clicking\, and other forms of vocal play will be utilized live on stage.</p>\n
LOCATION:The Basil Burwell Community Theater\, 17 Court Street\, Belfast\, Maine.
UID:e.3098.10099
SEQUENCE:3
DTSTAMP:20260422T155417Z
URL:https://business.belfastmaine.org/events/details/auditions-for-the-curious-incident-of-the-dog-in-the-night-time-01-18-2025-10099
END:VEVENT

END:VCALENDAR
