BEGIN:VCALENDAR
VERSION:2.0
PRODID:-//ChamberMaster//Event Calendar 2.0//EN
METHOD:PUBLISH
X-PUBLISHED-TTL:P3D
REFRESH-INTERVAL:P3D
CALSCALE:GREGORIAN
BEGIN:VEVENT
DTSTART:20250213T230000Z
DTEND:20250214T010000Z
X-MICROSOFT-CDO-ALLDAYEVENT:FALSE
SUMMARY:Bagaduce Music - Special Valentine’s Eve Concert of The Great American Songbook
DESCRIPTION:Bagaduce Music presents Time Travel to Tin Pan Alley\, a unique docu-concert  from The Time Travel Trio\, who deliver a new take on celebrated standards from the golden Jazz Age of the 1920s written by Irving Berlin\, Cole Porter\, and the Gershwins.\n\n\n\nThe group features pianist and UMaine Jazz Studies Program professor Scott Cleveland\, UMaine Jazz Studies program director Dan Barrett on trombone\, and Ann Delaney\, professional vocalist and amateur musicologist. The Time Travel Trio shares the music of the era and the stories behind the composers and the performers including Al Jolson\, Fanny Brice\, and Billy Rose.  \n\nThe inspiration behind forming the Time Travel Trio was the recent availability of popular songs from the 1920s into the public domain\, and the opportunity it presented to perform and share the history of the songs that formed the basis of what is informally known as The Great American Songbook. The sheet music used to prepare these concerts was borrowed from the Bagaduce Music library!\n\nJoin us Thursday\, Feb 13 at Henry D. Moore Library\, 22 Village Rd\, Steuben. The special Valentine-Eve Concert begins at 6pm\, doors will open at 5:30pm. For more details and for tickets visit bagaducemusic.org\, contact Lydia at lydia@bagaducemusic.org\, or call 207-374-5454.
X-ALT-DESC;FMTTYPE=text/html:<p><span style="background-color:transparent\; color:rgb(0\, 0\, 0)\; font-family:arial\,sans-serif\; font-size:12pt">Bagaduce Music presents Time Travel to Tin Pan Alley\, a unique docu-concert&nbsp\; from The Time Travel Trio\, who deliver a new take on celebrated standards from the golden Jazz Age of the 1920s written by Irving Berlin\, Cole Porter\, and the Gershwins.<br />\n<br />\nThe group features pianist and UMaine Jazz Studies Program professor Scott Cleveland\, UMaine Jazz Studies program director Dan Barrett on trombone\, and Ann Delaney\, professional vocalist and amateur musicologist. The Time Travel Trio shares the music of the era and the stories behind the composers and the performers including Al Jolson\, Fanny Brice\, and Billy Rose.&nbsp\;&nbsp\;</span></p>\n\n<p><span style="background-color:transparent\; color:rgb(0\, 0\, 0)\; font-family:arial\,sans-serif\; font-size:12pt">The inspiration behind forming the Time Travel Trio was the recent availability of popular songs from the 1920s into the public domain\, and the opportunity it presented to perform and share the history of the songs that formed the basis of what is informally known as The Great American Songbook. </span><em>The sheet music used to prepare these concerts was borrowed from the Bagaduce Music library!</em></p>\n\n<p><span style="background-color:transparent\; color:rgb(0\, 0\, 0)\; font-family:arial\,sans-serif\; font-size:12pt">Join us Thursday\, Feb 13 at Henry D. Moore Library\, 22 Village Rd\, Steuben. The special Valentine-Eve Concert begins at 6pm\, doors will open at 5:30pm. For more details and for tickets visit bagaducemusic.org\, contact Lydia at lydia@bagaducemusic.org\, or call 207-374-5454.</span></p>\n\n<div>&nbsp\;</div>\n
LOCATION:Henry D. Moore Library\, 22 Village Rd\, Steuben
UID:e.3098.10132
SEQUENCE:3
DTSTAMP:20260420T064853Z
URL:https://business.belfastmaine.org/events/details/bagaduce-music-special-valentine-s-eve-concert-of-the-great-american-songbook-10132
END:VEVENT

END:VCALENDAR
