BEGIN:VCALENDAR
VERSION:2.0
PRODID:-//ChamberMaster//Event Calendar 2.0//EN
METHOD:PUBLISH
X-PUBLISHED-TTL:P3D
REFRESH-INTERVAL:P3D
CALSCALE:GREGORIAN
BEGIN:VEVENT
DTSTART:20250215T180000Z
DTEND:20250215T220000Z
X-MICROSOFT-CDO-ALLDAYEVENT:FALSE
SUMMARY:Bagaduce Music - Time Travel To Tin Pan Alley: Outstanding History and Music Workshop and Concert\, Blue HIll
DESCRIPTION:Join us Saturday\, February 15 at Bagaduce Music Performance Hall for a musician's workshop and Concert from The Tin Pan Alley Trio. \n \n\nAt 1pm musicians\, history and music buffs (or all of the above!) are welcome to come to Bagaduce Music for a workshop about this Tin Pan Alley repertoire. From information about vocal singing styles of the era\, how Louis Armstrong originated many elements of jazz singing\, in contrast and comparison to singers of the era such as Bessie Smith and Sophie Tucker to more technical information such as "stride piano variations" and possibly "chord voicing" for Jazz- this workshop will be informative and fun! \n \n\nAt 3pm enjoy Time Travel to Tin Pan Alley\, a unique docu-concert  from The Time Travel Trio who deliver a new take on celebrated standards from the golden Jazz Age of the 1920s written by Irving Berlin\, Cole Porter\, and the Gershwins. The Trio features pianist and UMaine Jazz Studies Program professor Scott Cleveland\, UMaine Jazz Studies program director Dan Barrett on trombone\, and Ann Delaney\, professional vocalist and amateur musicologist. The Time Travel Trio shares the music of the era and the stories behind the composers and the performers including Al Jolson\, Fanny Brice\, and Billy Rose.  The inspiration behind forming the Time Travel Trio was the recent availability of popular songs from the 1920s into the public domain\, and the opportunity it presented to perform and share the history of the songs that formed the basis of what is informally known as The Great American Songbook.  \n\nThe sheet music used to prepare these concerts was borrowed from the Bagaduce Music library!\n\nBagaduce Music is located at 49 South St\, Blue Hill\, ME 04614. For tickets and information please visit www.bagaducemusic.org\, contact Lydia at lydia@bagaducemusic.org\, or call 207-374-5454.
X-ALT-DESC;FMTTYPE=text/html:<p><span style="background-color:transparent\; color:rgb(0\, 0\, 0)\; font-family:arial\,sans-serif\; font-size:12pt">Join us Saturday\, February 15 at Bagaduce Music Performance Hall for a musician&#39\;s workshop and Concert from The Tin Pan Alley Trio.&nbsp\;</span></p>\n&nbsp\;\n\n<p><span style="background-color:transparent\; color:rgb(0\, 0\, 0)\; font-family:arial\,sans-serif\; font-size:12pt">At 1pm musicians\, history and music buffs (or all of the above!) are welcome to come to Bagaduce Music for a workshop about this Tin Pan Alley repertoire. From information about vocal singing styles of the era\, how Louis Armstrong originated many elements of jazz singing\, in contrast and comparison to singers of the era such as Bessie Smith and Sophie Tucker to more technical information such as &ldquo\;stride piano variations&quot\; and possibly &quot\;chord voicing&rdquo\; for Jazz- this workshop will be informative and fun!&nbsp\;</span></p>\n&nbsp\;\n\n<p><span style="background-color:transparent\; color:rgb(0\, 0\, 0)\; font-family:arial\,sans-serif\; font-size:12pt">At 3pm enjoy Time Travel to Tin Pan Alley\, a unique docu-concert&nbsp\; from The Time Travel Trio who deliver a new take on celebrated standards from the golden Jazz Age of the 1920s written by Irving Berlin\, Cole Porter\, and the Gershwins. The Trio features pianist and UMaine Jazz Studies Program professor Scott Cleveland\, UMaine Jazz Studies program director Dan Barrett on trombone\, and Ann Delaney\, professional vocalist and amateur musicologist. The Time Travel Trio shares the music of the era and the stories behind the composers and the performers including Al Jolson\, Fanny Brice\, and Billy Rose.&nbsp\; The inspiration behind forming the Time Travel Trio was the recent availability of popular songs from the 1920s into the public domain\, and the opportunity it presented to perform and share the history of the songs that formed the basis of what is informally known as The Great American Songbook.&nbsp\;&nbsp\;</span></p>\n\n<p><em>The sheet music used to prepare these concerts was borrowed from the Bagaduce Music library!</em></p>\n\n<p><span style="background-color:transparent\; color:rgb(0\, 0\, 0)\; font-family:arial\,sans-serif\; font-size:12pt">Bagaduce Music is located at 49 South St\, Blue Hill\, ME 04614. For tickets and information please visit </span><a href="http://www.bagaducemusic.org" style="text-decoration-line: none\;"><span style="background-color:transparent\; color:rgb(17\, 85\, 204)\; font-family:arial\,sans-serif\; font-size:12pt">www.bagaducemusic.org</span></a><span style="background-color:transparent\; color:rgb(0\, 0\, 0)\; font-family:arial\,sans-serif\; font-size:12pt">\, contact Lydia at lydia@bagaducemusic.org\, or call 207-374-5454.</span></p>\n\n<div>&nbsp\;</div>\n
LOCATION:49 South St\, Blue Hill\, ME 04614
UID:e.3098.10134
SEQUENCE:3
DTSTAMP:20260422T172733Z
URL:https://business.belfastmaine.org/events/details/bagaduce-music-time-travel-to-tin-pan-alley-outstanding-history-and-music-workshop-and-concert-blue-hill-10134
END:VEVENT

END:VCALENDAR
