BEGIN:VCALENDAR
VERSION:2.0
PRODID:-//ChamberMaster//Event Calendar 2.0//EN
METHOD:PUBLISH
X-PUBLISHED-TTL:P3D
REFRESH-INTERVAL:P3D
CALSCALE:GREGORIAN
BEGIN:VEVENT
DTSTART:20200526T213000Z
DTEND:20200526T223000Z
X-MICROSOFT-CDO-ALLDAYEVENT:FALSE
SUMMARY:BAY PRO - Payson Hill Cabin & Caboose
DESCRIPTION:Join BAY PRO\, the Belfast Area Chamber\, and member Laura Lougheed from Payson Hill Cabin & Caboose online on Tuesday\, May 26th at 5:30pm for a 3D tour and update on their business\, provided via RE/MAX Jaret & Cohn and ZOOM Video Conferencing!\n\n\n\nThis is BAY PRO'S monthly networking event for young professionals in the greater Belfast area. All are welcome!\n\n\n\nClick on the Facebook event page for the ZOOM Meeting link
X-ALT-DESC;FMTTYPE=text/html:<span style="color: rgb(29\, 33\, 41)\; font-family: Helvetica\, Arial\, sans-serif\; font-size: 14px\; white-space: pre-wrap\;">Join BAY PRO\, the Belfast Area Chamber\, and member Laura Lougheed from Payson Hill Cabin &amp\; Caboose online on Tuesday\, May 26th at 5:30pm for a 3D tour and update on their business\, provided via RE/MAX Jaret &amp\; Cohn and ZOOM Video Conferencing!</span><br style="color: rgb(29\, 33\, 41)\; font-family: Helvetica\, Arial\, sans-serif\; font-size: 14px\; white-space: pre-wrap\;" />\n<br style="color: rgb(29\, 33\, 41)\; font-family: Helvetica\, Arial\, sans-serif\; font-size: 14px\; white-space: pre-wrap\;" />\n<span style="color: rgb(29\, 33\, 41)\; font-family: Helvetica\, Arial\, sans-serif\; font-size: 14px\; white-space: pre-wrap\;">This is BAY PRO&#39\;S monthly networking event for young professionals in the greater Belfast area. All are welcome!</span><br style="color: rgb(29\, 33\, 41)\; font-family: Helvetica\, Arial\, sans-serif\; font-size: 14px\; white-space: pre-wrap\;" />\n<br style="color: rgb(29\, 33\, 41)\; font-family: Helvetica\, Arial\, sans-serif\; font-size: 14px\; white-space: pre-wrap\;" />\n<span style="color: rgb(29\, 33\, 41)\; font-family: Helvetica\, Arial\, sans-serif\; font-size: 14px\; white-space: pre-wrap\;">Click on the Facebook event page for the ZOOM Meeting link </span>
LOCATION:ZOOM Video Conferencing
UID:e.3098.3298
SEQUENCE:3
DTSTAMP:20260422T173841Z
URL:https://business.belfastmaine.org/events/details/bay-pro-payson-hill-cabin-caboose-3298
END:VEVENT

END:VCALENDAR
