BEGIN:VCALENDAR
VERSION:2.0
PRODID:-//ChamberMaster//Event Calendar 2.0//EN
METHOD:PUBLISH
X-PUBLISHED-TTL:P3D
REFRESH-INTERVAL:P3D
CALSCALE:GREGORIAN
BEGIN:VEVENT
DTSTART:20200706T223000Z
DTEND:20200707T000000Z
X-MICROSOFT-CDO-ALLDAYEVENT:FALSE
SUMMARY:Becoming Maine: A Bicentennial Presentation
DESCRIPTION:Becoming Maine: A Bicentennial Presentation with Liam Riordan\, Professor of History\, University of Maine.\n\n\n\nThe Belfast Free Library and the Belfast Historical Society and Museum present a Bicentennial Lecture with Liam Riordan about Monday July 6th at 6:30 pm. The talk will be live-streamed on the Belfast Free Library's Face Book page from the Abbott Room of the library.\n\n\n\nRiordan will give an illustrated presentation exploring the long statehood process in Maine that culminated in 1820 with separation from Massachusetts. That struggle engaged a range of challenging public issues that are still recognizable today. Four broad themes that bridge 200 years in telling ways include:the "two Maines" and sharp partisan conflict\, the explosive place of slavery vis-a-vis the Maine-Missouri Crisis\, Wabanaki sovereignty\, the uncertain location and meaning of the international border.\n\n\n\nLiam Riordan received his bachelor's degree in history at the University of California\, Berkeley\, and his Ph.D. at the University of Pennsylvania. He has been a faculty member in the Department of History at the University of Maine since 1997. He is a specialist on the American Revolution   especially the religious\, racial and ethnic diversity in the Philadelphia region from 1770 to 1830. He has an ongoing research project about the Loyalists who opposed the American Revolution.\n\n\n\nRiordan has done considerable Public History work to commemorate the bicentennial of the state of Maine in 2019-2020 and organized the Maine Bicentennial Conference on the statehood era and its legacy (May 31-June 1\, 2019). For more info and related resources\, please visit: https://digitalcommons.library.umaine.edu/me200/
X-ALT-DESC;FMTTYPE=text/html:<span style="color: rgb(29\, 33\, 41)\; font-family: Helvetica\, Arial\, sans-serif\; font-size: 14px\; white-space: pre-wrap\;">Becoming Maine: A Bicentennial Presentation with Liam Riordan\, Professor of History\, University of Maine.</span><br style="color: rgb(29\, 33\, 41)\; font-family: Helvetica\, Arial\, sans-serif\; font-size: 14px\; white-space: pre-wrap\;" />\n<br style="color: rgb(29\, 33\, 41)\; font-family: Helvetica\, Arial\, sans-serif\; font-size: 14px\; white-space: pre-wrap\;" />\n<span style="color: rgb(29\, 33\, 41)\; font-family: Helvetica\, Arial\, sans-serif\; font-size: 14px\; white-space: pre-wrap\;">The Belfast Free Library and the Belfast Historical Society and Museum present a Bicentennial Lecture with Liam Riordan about Monday July 6th at 6:30 pm. The talk will be live-streamed on the Belfast Free Library&rsquo\;s Face Book page from the Abbott Room of the library.</span><br style="color: rgb(29\, 33\, 41)\; font-family: Helvetica\, Arial\, sans-serif\; font-size: 14px\; white-space: pre-wrap\;" />\n<br style="color: rgb(29\, 33\, 41)\; font-family: Helvetica\, Arial\, sans-serif\; font-size: 14px\; white-space: pre-wrap\;" />\n<span style="color: rgb(29\, 33\, 41)\; font-family: Helvetica\, Arial\, sans-serif\; font-size: 14px\; white-space: pre-wrap\;">Riordan will give an illustrated presentation exploring the long statehood process in Maine that culminated in 1820 with separation from Massachusetts. That struggle engaged a range of challenging public issues that are still recognizable today. Four broad themes that bridge 200 years in telling ways include:the &ldquo\;two Maines&rdquo\; and sharp partisan conflict\, the explosive place of slavery vis-a-vis the Maine-Missouri Crisis\, Wabanaki sovereignty\, the uncertain location and meaning of the international border.</span><br style="color: rgb(29\, 33\, 41)\; font-family: Helvetica\, Arial\, sans-serif\; font-size: 14px\; white-space: pre-wrap\;" />\n<br style="color: rgb(29\, 33\, 41)\; font-family: Helvetica\, Arial\, sans-serif\; font-size: 14px\; white-space: pre-wrap\;" />\n<span style="color: rgb(29\, 33\, 41)\; font-family: Helvetica\, Arial\, sans-serif\; font-size: 14px\; white-space: pre-wrap\;">Liam Riordan received his bachelor&rsquo\;s degree in history at the University of California\, Berkeley\, and his Ph.D. at the University of Pennsylvania. He has been a faculty member in the Department of History at the University of Maine since 1997. He is a specialist on the American Revolution &mdash\; especially the religious\, racial and ethnic diversity in the Philadelphia region from 1770 to 1830. He has an ongoing research project about the Loyalists who opposed the American Revolution.</span><br style="color: rgb(29\, 33\, 41)\; font-family: Helvetica\, Arial\, sans-serif\; font-size: 14px\; white-space: pre-wrap\;" />\n<br style="color: rgb(29\, 33\, 41)\; font-family: Helvetica\, Arial\, sans-serif\; font-size: 14px\; white-space: pre-wrap\;" />\n<span style="color: rgb(29\, 33\, 41)\; font-family: Helvetica\, Arial\, sans-serif\; font-size: 14px\; white-space: pre-wrap\;">Riordan has done considerable Public History work to commemorate the bicentennial of the state of Maine in 2019-2020 and organized the Maine Bicentennial Conference on the statehood era and its legacy (May 31-June 1\, 2019). For more info and related resources\, please visit: </span><a data-lynx-mode="hover" href="https://l.facebook.com/l.php?u=https%3A%2F%2Fdigitalcommons.library.umaine.edu%2Fme200%2F%3Ffbclid%3DIwAR2G83atVn0lwrIqjSEfYXKc4GDuF-uC-MDvxGTGI5lwBfcLSiDV-xjb3bg&amp\;h=AT1m0kIt5QezoVEO30Rpp3NS5JVl9AdQsk4dUspvVhNkd59vhgcgf-jsdkILD7Q4vtM5ldX_9br9R9m7MW-UFNBn6VbyAFtt9Zw1DS-befiQmc73MfW25h5TOwtVNtuV7t1R" rel="nofollow noopener" style="color: rgb(56\, 88\, 152)\; cursor: pointer\; text-decoration-line: none\; font-family: Helvetica\, Arial\, sans-serif\; font-size: 14px\; white-space: pre-wrap\;" target="_blank">https://digitalcommons.library.umaine.edu/me200/</a>
LOCATION:
UID:e.3098.3311
SEQUENCE:3
DTSTAMP:20260422T140350Z
URL:https://business.belfastmaine.org/events/details/becoming-maine-a-bicentennial-presentation-3311
END:VEVENT

END:VCALENDAR
