BEGIN:VCALENDAR
VERSION:2.0
PRODID:-//ChamberMaster//Event Calendar 2.0//EN
METHOD:PUBLISH
X-PUBLISHED-TTL:P3D
REFRESH-INTERVAL:P3D
CALSCALE:GREGORIAN
BEGIN:VEVENT
DTSTART:20250307T233000Z
DTEND:20250308T040000Z
X-MICROSOFT-CDO-ALLDAYEVENT:FALSE
SUMMARY:Belfast Flying Shoes Community Dance and Contra Dance
DESCRIPTION:Belfast Flying Shoes dances are every first Friday of the month. Come participate in simple dances for all ages at the Community Dance\, led by Chrissy Fowler with music by the All Comers Band (open to all musicians)\, no experience or partner needed! Or participate later on in the Contra Dance\, featuring a guest caller and the Peregrine Road band with special guest Becky Tracy!
X-ALT-DESC;FMTTYPE=text/html:Belfast Flying Shoes dances are every first Friday of the month. Come participate in simple dances for all ages at the Community Dance\, led by Chrissy Fowler with music by the All Comers Band (open to all musicians)\, no experience or partner needed! Or participate later on in the Contra Dance\, featuring a guest caller and the Peregrine Road band with special guest Becky Tracy!
LOCATION:First Church in Belfast 8 Court St.\, Belfast\, ME
UID:e.3098.3230
SEQUENCE:3
DTSTAMP:20260422T191308Z
URL:https://business.belfastmaine.org/events/details/belfast-flying-shoes-community-dance-and-contra-dance-03-07-2025-3230
END:VEVENT

END:VCALENDAR
