BEGIN:VCALENDAR
VERSION:2.0
PRODID:-//ChamberMaster//Event Calendar 2.0//EN
METHOD:PUBLISH
X-PUBLISHED-TTL:P3D
REFRESH-INTERVAL:P3D
CALSCALE:GREGORIAN
BEGIN:VEVENT
DTSTART:20200717T140000Z
DTEND:20200717T200000Z
X-MICROSOFT-CDO-ALLDAYEVENT:FALSE
SUMMARY:Belfast Garden Club Tour
DESCRIPTION:Two gardens will be featured on the July 17 Belfast Garden Club's Open Garden Day. Both are in Searsport\, a 5-minute walk apart\, at 15 Water Street and 5 Elm Street. They will be open from 10:00 am to 4:00 pm\, rain or shine. A $5 donation admits visitors to both gardens (checks or exact change is appreciated). Additional donations to support the Garden Club are welcome. To protect Open Garden visitors\, volunteers\, and homeowners during the current COVID situation\, all will be asked to wear face masks and to maintain appropriate physical distancing while at the gardens. Hand sanitizer and masks will be available for those who cannot bring their own.
X-ALT-DESC;FMTTYPE=text/html:<span style="font-family: &quot\;Open Sans&quot\;\, Helvetica\, Arial\, &quot\;Nimbus Sans L&quot\;\, sans-serif\; font-size: 14px\; text-align: justify\;">Two gardens will be featured on the July 17 Belfast Garden Club&rsquo\;s Open Garden Day. Both are in Searsport\, a 5-minute walk apart\, at&nbsp\;</span><strong style="margin: 0px\; padding: 0px\; border: 0px\; font-size: 14px\; vertical-align: baseline\; font-family: &quot\;Open Sans&quot\;\, Helvetica\, Arial\, &quot\;Nimbus Sans L&quot\;\, sans-serif\; text-align: justify\;"><a href="https://www.google.com/maps/place/15+Water+St\,+Searsport\,+ME+04974/@44.4561292\,-68.9273586\,17z/data=!3m1!4b1!4m5!3m4!1s0x4cae6f4d37dbf0c9:0x6908f2b6b44744f5!8m2!3d44.4561292!4d-68.9251699" style="margin: 0px\; padding: 0px\; border: 0px\; vertical-align: baseline\; outline: none\; color: rgb(128\, 0\, 128)\;">15 Water Street</a>&nbsp\;and&nbsp\;<a href="https://www.google.com/maps/place/5+Elm+St\,+Searsport\,+ME+04974/@44.4582328\,-68.926181\,17z/data=!3m1!4b1!4m5!3m4!1s0x4cae68b2f1fd25ed:0x2fde67f8ca52a416!8m2!3d44.4582328!4d-68.9239923" style="margin: 0px\; padding: 0px\; border: 0px\; vertical-align: baseline\; outline: none\; color: rgb(128\, 0\, 128)\;">5 Elm Street</a>.</strong><span style="font-family: &quot\;Open Sans&quot\;\, Helvetica\, Arial\, &quot\;Nimbus Sans L&quot\;\, sans-serif\; font-size: 14px\; text-align: justify\;">&nbsp\;They will be open from 10:00 am to 4:00 pm\, rain or shine. A $5 donation admits visitors to both gardens (checks or exact change is appreciated). Additional donations to support the Garden Club are welcome. To protect Open Garden visitors\, volunteers\, and homeowners during the current COVID situation\, all will be asked to wear face masks and to maintain appropriate physical distancing while at the gardens. Hand sanitizer and masks will be available for those who cannot bring their own.</span>
LOCATION:
UID:e.3098.3338
SEQUENCE:3
DTSTAMP:20260422T141429Z
URL:https://business.belfastmaine.org/events/details/belfast-garden-club-tour-3338
END:VEVENT

END:VCALENDAR
