BEGIN:VCALENDAR
VERSION:2.0
PRODID:-//ChamberMaster//Event Calendar 2.0//EN
METHOD:PUBLISH
X-PUBLISHED-TTL:P3D
REFRESH-INTERVAL:P3D
CALSCALE:GREGORIAN
BEGIN:VEVENT
DTSTART:20200724T140000Z
DTEND:20200724T200000Z
X-MICROSOFT-CDO-ALLDAYEVENT:FALSE
SUMMARY:Belfast Garden Club Tour
DESCRIPTION:Visit a classic\, well-loved Belfast garden at the Belfast Garden Club's Open Garden Day on Friday\, July 24. Anna Strickland and Edward Earle's garden at 66 Church Street will be open from 10:00 a.m. to 4:00 p.m.\, rain or shine. Admission is $5 (checks or exact change is appreciated)\; additional donations to support the Garden Club are also welcome. To protect Open Garden visitors\, volunteers\, and homeowners during the current COVID situation\, we ask everyone to wear face masks and to maintain appropriate physical distancing while touring the gardens. We will provide hand sanitizer and have masks available for those who cannot bring their own.
X-ALT-DESC;FMTTYPE=text/html:<span style="font-family: &quot\;Open Sans&quot\;\, Helvetica\, Arial\, &quot\;Nimbus Sans L&quot\;\, sans-serif\; font-size: 14px\; text-align: justify\;">Visit a classic\, well-loved Belfast garden at the Belfast Garden Club&rsquo\;s Open Garden Day on Friday\, July 24. Anna Strickland and Edward Earle&rsquo\;s garden at&nbsp\;</span><a href="https://www.google.com/maps/place/66+Church+St\,+Belfast\,+ME+04915/@44.4230192\,-69.0061725\,17z/data=!3m1!4b1!4m5!3m4!1s0x4cae6e4fe8425a01:0x3fff134bd03a977a!8m2!3d44.4230192!4d-69.0039838" style="margin: 0px\; padding: 0px\; border: 0px\; font-size: 14px\; vertical-align: baseline\; outline: none\; color: rgb(128\, 0\, 128)\; font-family: &quot\;Open Sans&quot\;\, Helvetica\, Arial\, &quot\;Nimbus Sans L&quot\;\, sans-serif\; text-align: justify\;">66 Church Street</a><span style="font-family: &quot\;Open Sans&quot\;\, Helvetica\, Arial\, &quot\;Nimbus Sans L&quot\;\, sans-serif\; font-size: 14px\; text-align: justify\;">&nbsp\;will be open from 10:00 a.m. to 4:00 p.m.\, rain or shine. Admission is $5 (checks or exact change is appreciated)\; additional donations to support the Garden Club are also welcome. To protect Open Garden visitors\, volunteers\, and homeowners during the current COVID situation\, we ask everyone to wear face masks and to maintain appropriate physical distancing while touring the gardens. We will provide hand sanitizer and have masks available for those who cannot bring their own.</span>
LOCATION:
UID:e.3098.3339
SEQUENCE:3
DTSTAMP:20260422T141436Z
URL:https://business.belfastmaine.org/events/details/belfast-garden-club-tour-3339
END:VEVENT

END:VCALENDAR
