BEGIN:VCALENDAR
VERSION:2.0
PRODID:-//ChamberMaster//Event Calendar 2.0//EN
METHOD:PUBLISH
X-PUBLISHED-TTL:P3D
REFRESH-INTERVAL:P3D
CALSCALE:GREGORIAN
BEGIN:VEVENT
DTSTART:20200407T190000Z
DTEND:20200407T220000Z
X-MICROSOFT-CDO-ALLDAYEVENT:FALSE
SUMMARY:Belfast Regional Job Fair
DESCRIPTION:Are you looking for a job? Hoping to hire seasonal or permanent employees? \n\n\n\n \n\n\n\nWe are pleased to invite you to attend the Fourth Annual Belfast Regional Job Fair\, planned for 3-6 p.m. Tuesday\, April 7\, at the University of Maine Hutchinson Center\, on Route 3\, just west of Reny's Plaza in Belfast. There is no charge.\n\n\n\n \n\n\n\nWE ARE SEEKING EMPLOYERS TO PARTICIPATE! See the current list of business participants below and how to register!\n\n\n\n \n\n\n\nEmployees can be difficult to find these days. Low unemployment rates in Maine\, other parts of New England and across the US are causing a notable labor shortage. The Fourth Annual Belfast Job Fair is an effort to connect employers and job-seekers for a few hours on a spring afternoon. \n\n\n\n \n\n\n\nEmployers wishing to register should send an email to david.m.grima@maine.gov or call 207.596.2600 with the name of the employer\, location\, brief industry description\, phone number\, and contact name. Participation for employers is capped at 50--we recommend applying as far in advance as possible. \n\n\n\n \n\n\n\nJob seekers do not need to register in advance. Simply show up! Make sure you dress professionally\, have copies of your resum  and/or portfolio on hand and be ready to impress! In previous years\, some job seekers have gotten hired on the spot! This job fair is a great opportunity for workers of all kinds to find employment. Graduating high school students\, formerly-incarcerated citizens\, veterans\, college graduates\, and seniors are all welcome. Whether you're currently unemployed\, underemployed\, or curious about what's out there\, the Fourth Annual Belfast Job Fair is right for you.\n\n\n\n \n\n\n\nThe job fair is sponsored by the City of Belfast\, Belfast Area Chamber of Commerce\, Belfast Creative Coalition\, Our Town Belfast\, the UM Hutchinson Center\, Workforce Solutions\, and the Maine Department of Labor. Please direct all questions to David Grima at David.M.Grima@Maine.gov or 207-596-2600.\n\n\n\n \n\n\n\nCurrent Businesses Representing at the Job Fair:\n\n\n\nRobbins Lumber\n\n\n\nWaldo CAP\n\n\n\nBelfast Co-op\n\n\n\nPrivate Home Care\n\n\n\nAthenahealth\n\n\n\nTall Pines\n\n\n\nBelfast Area Child Care Services\n\n\n\nMathews Brothers\n\n\n\nKennebec County Sheriff\n\n\n\nSweetser\n\n\n\nVacasa/Belfast Bay Inn\n\n\n\nSecuritas\n\n\n\nUS Census\n\n\n\nJackson Lab\n\n\n\nWaldo County YMCA\n\n\n\nWoodlands\n\n\n\nThomas Fowler PE\n\n\n\nLiving Innovations\n\n\n\nGenesis Healthcare\n\n\n\nBank of America\n\n\n\nHidden valley Camp\n\n\n\nAutumn of Life\n\n\n\nInn at Ocean's Edge\n\n\n\nCity of belfast GA\n\n\n\nWaldo County Communications\n\n\n\nMondelez International
X-ALT-DESC;FMTTYPE=text/html:<div data-block="true" data-editor="cf84n" data-offset-key="2608d-0-0" style="font-family: Helvetica\, Arial\, sans-serif\; color: rgb(28\, 30\, 33)\; font-size: 12px\; white-space: pre-wrap\;">\n<div class="_1mf _1mj" data-offset-key="2608d-0-0" style="position: relative\; direction: ltr\; font-family: inherit\;"><span data-offset-key="2608d-0-0" style="font-family: inherit\;">Are you looking for a job? Hoping to hire seasonal or permanent employees? </span></div>\n</div>\n\n<div data-block="true" data-editor="cf84n" data-offset-key="c2l1e-0-0" style="font-family: Helvetica\, Arial\, sans-serif\; color: rgb(28\, 30\, 33)\; font-size: 12px\; white-space: pre-wrap\;">\n<div class="_1mf _1mj" data-offset-key="c2l1e-0-0" style="position: relative\; direction: ltr\; font-family: inherit\;">&nbsp\;</div>\n</div>\n\n<div data-block="true" data-editor="cf84n" data-offset-key="a8leg-0-0" style="font-family: Helvetica\, Arial\, sans-serif\; color: rgb(28\, 30\, 33)\; font-size: 12px\; white-space: pre-wrap\;">\n<div class="_1mf _1mj" data-offset-key="a8leg-0-0" style="position: relative\; direction: ltr\; font-family: inherit\;"><span data-offset-key="a8leg-0-0" style="font-family: inherit\;">We are pleased to invite you to attend the Fourth Annual Belfast Regional Job Fair\, planned for 3-6 p.m. Tuesday\, April 7\, at the University of Maine Hutchinson Center\, on Route 3\, just west of Reny&#39\;s Plaza in Belfast. There is no charge.</span></div>\n</div>\n\n<div data-block="true" data-editor="cf84n" data-offset-key="9lv1v-0-0" style="font-family: Helvetica\, Arial\, sans-serif\; color: rgb(28\, 30\, 33)\; font-size: 12px\; white-space: pre-wrap\;">\n<div class="_1mf _1mj" data-offset-key="9lv1v-0-0" style="position: relative\; direction: ltr\; font-family: inherit\;">&nbsp\;</div>\n</div>\n\n<div data-block="true" data-editor="cf84n" data-offset-key="3en9p-0-0" style="font-family: Helvetica\, Arial\, sans-serif\; color: rgb(28\, 30\, 33)\; font-size: 12px\; white-space: pre-wrap\;">\n<div class="_1mf _1mj" data-offset-key="3en9p-0-0" style="position: relative\; direction: ltr\; font-family: inherit\;"><span data-offset-key="3en9p-0-0" style="font-family: inherit\;">WE ARE SEEKING EMPLOYERS TO PARTICIPATE! See the current list of business participants below and how to register!</span></div>\n</div>\n\n<div data-block="true" data-editor="cf84n" data-offset-key="2olro-0-0" style="font-family: Helvetica\, Arial\, sans-serif\; color: rgb(28\, 30\, 33)\; font-size: 12px\; white-space: pre-wrap\;">\n<div class="_1mf _1mj" data-offset-key="2olro-0-0" style="position: relative\; direction: ltr\; font-family: inherit\;">&nbsp\;</div>\n</div>\n\n<div data-block="true" data-editor="cf84n" data-offset-key="6sa6a-0-0" style="font-family: Helvetica\, Arial\, sans-serif\; color: rgb(28\, 30\, 33)\; font-size: 12px\; white-space: pre-wrap\;">\n<div class="_1mf _1mj" data-offset-key="6sa6a-0-0" style="position: relative\; direction: ltr\; font-family: inherit\;"><span data-offset-key="6sa6a-0-0" style="font-family: inherit\;">Employees can be difficult to find these days. Low unemployment rates in Maine\, other parts of New England and across the US are causing a notable labor shortage. The Fourth Annual Belfast Job Fair is an effort to connect employers and job-seekers for a few hours on a spring afternoon. </span></div>\n</div>\n\n<div data-block="true" data-editor="cf84n" data-offset-key="4v8de-0-0" style="font-family: Helvetica\, Arial\, sans-serif\; color: rgb(28\, 30\, 33)\; font-size: 12px\; white-space: pre-wrap\;">\n<div class="_1mf _1mj" data-offset-key="4v8de-0-0" style="position: relative\; direction: ltr\; font-family: inherit\;">&nbsp\;</div>\n</div>\n\n<div data-block="true" data-editor="cf84n" data-offset-key="94i9j-0-0" style="font-family: Helvetica\, Arial\, sans-serif\; color: rgb(28\, 30\, 33)\; font-size: 12px\; white-space: pre-wrap\;">\n<div class="_1mf _1mj" data-offset-key="94i9j-0-0" style="position: relative\; direction: ltr\; font-family: inherit\;"><span data-offset-key="94i9j-0-0" style="font-family: inherit\;">Employers wishing to register should send an email to david.m.grima@maine.gov or call 207.596.2600 with the name of the employer\, location\, brief industry description\, phone number\, and contact name. Participation for employers is capped at 50--we recommend applying as far in advance as possible. </span></div>\n</div>\n\n<div data-block="true" data-editor="cf84n" data-offset-key="9en64-0-0" style="font-family: Helvetica\, Arial\, sans-serif\; color: rgb(28\, 30\, 33)\; font-size: 12px\; white-space: pre-wrap\;">\n<div class="_1mf _1mj" data-offset-key="9en64-0-0" style="position: relative\; direction: ltr\; font-family: inherit\;">&nbsp\;</div>\n</div>\n\n<div data-block="true" data-editor="cf84n" data-offset-key="6ch2a-0-0" style="font-family: Helvetica\, Arial\, sans-serif\; color: rgb(28\, 30\, 33)\; font-size: 12px\; white-space: pre-wrap\;">\n<div class="_1mf _1mj" data-offset-key="6ch2a-0-0" style="position: relative\; direction: ltr\; font-family: inherit\;"><span data-offset-key="6ch2a-0-0" style="font-family: inherit\;">Job seekers do not need to register in advance. Simply show up! Make sure you dress professionally\, have copies of your resum&eacute\; and/or portfolio on hand and be ready to impress! In previous years\, some job seekers have gotten hired on the spot! This job fair is a great opportunity for workers of all kinds to find employment. Graduating high school students\, formerly-incarcerated citizens\, veterans\, college graduates\, and seniors are all welcome. Whether you&#39\;re currently unemployed\, underemployed\, or curious about what&#39\;s out there\, the Fourth Annual Belfast Job Fair is right for you.</span></div>\n</div>\n\n<div data-block="true" data-editor="cf84n" data-offset-key="am8m6-0-0" style="font-family: Helvetica\, Arial\, sans-serif\; color: rgb(28\, 30\, 33)\; font-size: 12px\; white-space: pre-wrap\;">\n<div class="_1mf _1mj" data-offset-key="am8m6-0-0" style="position: relative\; direction: ltr\; font-family: inherit\;">&nbsp\;</div>\n</div>\n\n<div data-block="true" data-editor="cf84n" data-offset-key="4klg7-0-0" style="font-family: Helvetica\, Arial\, sans-serif\; color: rgb(28\, 30\, 33)\; font-size: 12px\; white-space: pre-wrap\;">\n<div class="_1mf _1mj" data-offset-key="4klg7-0-0" style="position: relative\; direction: ltr\; font-family: inherit\;"><span data-offset-key="4klg7-0-0" style="font-family: inherit\;">The job fair is sponsored by the City of Belfast\, Belfast Area Chamber of Commerce\, Belfast Creative Coalition\, Our Town Belfast\, the UM Hutchinson Center\, Workforce Solutions\, and the Maine Department of Labor. Please direct all questions to David Grima at David.M.Grima@Maine.gov or 207-596-2600.</span></div>\n</div>\n\n<div data-block="true" data-editor="cf84n" data-offset-key="8ght8-0-0" style="font-family: Helvetica\, Arial\, sans-serif\; color: rgb(28\, 30\, 33)\; font-size: 12px\; white-space: pre-wrap\;">\n<div class="_1mf _1mj" data-offset-key="8ght8-0-0" style="position: relative\; direction: ltr\; font-family: inherit\;">&nbsp\;</div>\n</div>\n\n<div data-block="true" data-editor="cf84n" data-offset-key="fheni-0-0" style="font-family: Helvetica\, Arial\, sans-serif\; color: rgb(28\, 30\, 33)\; font-size: 12px\; white-space: pre-wrap\;">\n<div class="_1mf _1mj" data-offset-key="fheni-0-0" style="position: relative\; direction: ltr\; font-family: inherit\;"><span data-offset-key="fheni-0-0" style="font-family: inherit\;">Current Businesses Representing at the Job Fair:</span></div>\n</div>\n\n<div data-block="true" data-editor="cf84n" data-offset-key="700t0-0-0" style="font-family: Helvetica\, Arial\, sans-serif\; color: rgb(28\, 30\, 33)\; font-size: 12px\; white-space: pre-wrap\;">\n<div class="_1mf _1mj" data-offset-key="700t0-0-0" style="position: relative\; direction: ltr\; font-family: inherit\;"><span data-offset-key="700t0-0-0" style="font-family: inherit\;">Robbins Lumber</span></div>\n</div>\n\n<div data-block="true" data-editor="cf84n" data-offset-key="28jch-0-0" style="font-family: Helvetica\, Arial\, sans-serif\; color: rgb(28\, 30\, 33)\; font-size: 12px\; white-space: pre-wrap\;">\n<div class="_1mf _1mj" data-offset-key="28jch-0-0" style="position: relative\; direction: ltr\; font-family: inherit\;"><span data-offset-key="28jch-0-0" style="font-family: inherit\;">Waldo CAP</span></div>\n</div>\n\n<div data-block="true" data-editor="cf84n" data-offset-key="fsklh-0-0" style="font-family: Helvetica\, Arial\, sans-serif\; color: rgb(28\, 30\, 33)\; font-size: 12px\; white-space: pre-wrap\;">\n<div class="_1mf _1mj" data-offset-key="fsklh-0-0" style="position: relative\; direction: ltr\; font-family: inherit\;"><span data-offset-key="fsklh-0-0" style="font-family: inherit\;">Belfast Co-op</span></div>\n</div>\n\n<div data-block="true" data-editor="cf84n" data-offset-key="4k7fp-0-0" style="font-family: Helvetica\, Arial\, sans-serif\; color: rgb(28\, 30\, 33)\; font-size: 12px\; white-space: pre-wrap\;">\n<div class="_1mf _1mj" data-offset-key="4k7fp-0-0" style="position: relative\; direction: ltr\; font-family: inherit\;"><span data-offset-key="4k7fp-0-0" style="font-family: inherit\;">Private Home Care</span></div>\n</div>\n\n<div data-block="true" data-editor="cf84n" data-offset-key="3us13-0-0" style="font-family: Helvetica\, Arial\, sans-serif\; color: rgb(28\, 30\, 33)\; font-size: 12px\; white-space: pre-wrap\;">\n<div class="_1mf _1mj" data-offset-key="3us13-0-0" style="position: relative\; direction: ltr\; font-family: inherit\;"><span data-offset-key="3us13-0-0" style="font-family: inherit\;">Athenahealth</span></div>\n</div>\n\n<div data-block="true" data-editor="cf84n" data-offset-key="4o742-0-0" style="font-family: Helvetica\, Arial\, sans-serif\; color: rgb(28\, 30\, 33)\; font-size: 12px\; white-space: pre-wrap\;">\n<div class="_1mf _1mj" data-offset-key="4o742-0-0" style="position: relative\; direction: ltr\; font-family: inherit\;"><span data-offset-key="4o742-0-0" style="font-family: inherit\;">Tall Pines</span></div>\n</div>\n\n<div data-block="true" data-editor="cf84n" data-offset-key="dmabb-0-0" style="font-family: Helvetica\, Arial\, sans-serif\; color: rgb(28\, 30\, 33)\; font-size: 12px\; white-space: pre-wrap\;">\n<div class="_1mf _1mj" data-offset-key="dmabb-0-0" style="position: relative\; direction: ltr\; font-family: inherit\;"><span data-offset-key="dmabb-0-0" style="font-family: inherit\;">Belfast Area Child Care Services</span></div>\n</div>\n\n<div data-block="true" data-editor="cf84n" data-offset-key="1qdpt-0-0" style="font-family: Helvetica\, Arial\, sans-serif\; color: rgb(28\, 30\, 33)\; font-size: 12px\; white-space: pre-wrap\;">\n<div class="_1mf _1mj" data-offset-key="1qdpt-0-0" style="position: relative\; direction: ltr\; font-family: inherit\;"><span data-offset-key="1qdpt-0-0" style="font-family: inherit\;">Mathews Brothers</span></div>\n</div>\n\n<div data-block="true" data-editor="cf84n" data-offset-key="2v49d-0-0" style="font-family: Helvetica\, Arial\, sans-serif\; color: rgb(28\, 30\, 33)\; font-size: 12px\; white-space: pre-wrap\;">\n<div class="_1mf _1mj" data-offset-key="2v49d-0-0" style="position: relative\; direction: ltr\; font-family: inherit\;"><span data-offset-key="2v49d-0-0" style="font-family: inherit\;">Kennebec County Sheriff</span></div>\n</div>\n\n<div data-block="true" data-editor="cf84n" data-offset-key="5rgoc-0-0" style="font-family: Helvetica\, Arial\, sans-serif\; color: rgb(28\, 30\, 33)\; font-size: 12px\; white-space: pre-wrap\;">\n<div class="_1mf _1mj" data-offset-key="5rgoc-0-0" style="position: relative\; direction: ltr\; font-family: inherit\;"><span data-offset-key="5rgoc-0-0" style="font-family: inherit\;">Sweetser</span></div>\n</div>\n\n<div data-block="true" data-editor="cf84n" data-offset-key="3o3f8-0-0" style="font-family: Helvetica\, Arial\, sans-serif\; color: rgb(28\, 30\, 33)\; font-size: 12px\; white-space: pre-wrap\;">\n<div class="_1mf _1mj" data-offset-key="3o3f8-0-0" style="position: relative\; direction: ltr\; font-family: inherit\;"><span data-offset-key="3o3f8-0-0" style="font-family: inherit\;">Vacasa/Belfast Bay Inn</span></div>\n</div>\n\n<div data-block="true" data-editor="cf84n" data-offset-key="j05m-0-0" style="font-family: Helvetica\, Arial\, sans-serif\; color: rgb(28\, 30\, 33)\; font-size: 12px\; white-space: pre-wrap\;">\n<div class="_1mf _1mj" data-offset-key="j05m-0-0" style="position: relative\; direction: ltr\; font-family: inherit\;"><span data-offset-key="j05m-0-0" style="font-family: inherit\;">Securitas</span></div>\n</div>\n\n<div data-block="true" data-editor="cf84n" data-offset-key="6k5h2-0-0" style="font-family: Helvetica\, Arial\, sans-serif\; color: rgb(28\, 30\, 33)\; font-size: 12px\; white-space: pre-wrap\;">\n<div class="_1mf _1mj" data-offset-key="6k5h2-0-0" style="position: relative\; direction: ltr\; font-family: inherit\;"><span data-offset-key="6k5h2-0-0" style="font-family: inherit\;">US Census</span></div>\n</div>\n\n<div data-block="true" data-editor="cf84n" data-offset-key="7smqa-0-0" style="font-family: Helvetica\, Arial\, sans-serif\; color: rgb(28\, 30\, 33)\; font-size: 12px\; white-space: pre-wrap\;">\n<div class="_1mf _1mj" data-offset-key="7smqa-0-0" style="position: relative\; direction: ltr\; font-family: inherit\;"><span data-offset-key="7smqa-0-0" style="font-family: inherit\;">Jackson Lab</span></div>\n</div>\n\n<div data-block="true" data-editor="cf84n" data-offset-key="82und-0-0" style="font-family: Helvetica\, Arial\, sans-serif\; color: rgb(28\, 30\, 33)\; font-size: 12px\; white-space: pre-wrap\;">\n<div class="_1mf _1mj" data-offset-key="82und-0-0" style="position: relative\; direction: ltr\; font-family: inherit\;"><span data-offset-key="82und-0-0" style="font-family: inherit\;">Waldo County YMCA</span></div>\n</div>\n\n<div data-block="true" data-editor="cf84n" data-offset-key="5po6d-0-0" style="font-family: Helvetica\, Arial\, sans-serif\; color: rgb(28\, 30\, 33)\; font-size: 12px\; white-space: pre-wrap\;">\n<div class="_1mf _1mj" data-offset-key="5po6d-0-0" style="position: relative\; direction: ltr\; font-family: inherit\;"><span data-offset-key="5po6d-0-0" style="font-family: inherit\;">Woodlands</span></div>\n</div>\n\n<div data-block="true" data-editor="cf84n" data-offset-key="99g10-0-0" style="font-family: Helvetica\, Arial\, sans-serif\; color: rgb(28\, 30\, 33)\; font-size: 12px\; white-space: pre-wrap\;">\n<div class="_1mf _1mj" data-offset-key="99g10-0-0" style="position: relative\; direction: ltr\; font-family: inherit\;"><span data-offset-key="99g10-0-0" style="font-family: inherit\;">Thomas Fowler PE</span></div>\n</div>\n\n<div data-block="true" data-editor="cf84n" data-offset-key="dhaie-0-0" style="font-family: Helvetica\, Arial\, sans-serif\; color: rgb(28\, 30\, 33)\; font-size: 12px\; white-space: pre-wrap\;">\n<div class="_1mf _1mj" data-offset-key="dhaie-0-0" style="position: relative\; direction: ltr\; font-family: inherit\;"><span data-offset-key="dhaie-0-0" style="font-family: inherit\;">Living Innovations</span></div>\n</div>\n\n<div data-block="true" data-editor="cf84n" data-offset-key="13lq4-0-0" style="font-family: Helvetica\, Arial\, sans-serif\; color: rgb(28\, 30\, 33)\; font-size: 12px\; white-space: pre-wrap\;">\n<div class="_1mf _1mj" data-offset-key="13lq4-0-0" style="position: relative\; direction: ltr\; font-family: inherit\;"><span data-offset-key="13lq4-0-0" style="font-family: inherit\;">Genesis Healthcare</span></div>\n</div>\n\n<div data-block="true" data-editor="cf84n" data-offset-key="64ts5-0-0" style="font-family: Helvetica\, Arial\, sans-serif\; color: rgb(28\, 30\, 33)\; font-size: 12px\; white-space: pre-wrap\;">\n<div class="_1mf _1mj" data-offset-key="64ts5-0-0" style="position: relative\; direction: ltr\; font-family: inherit\;"><span data-offset-key="64ts5-0-0" style="font-family: inherit\;">Bank of America</span></div>\n</div>\n\n<div data-block="true" data-editor="cf84n" data-offset-key="3mtt6-0-0" style="font-family: Helvetica\, Arial\, sans-serif\; color: rgb(28\, 30\, 33)\; font-size: 12px\; white-space: pre-wrap\;">\n<div class="_1mf _1mj" data-offset-key="3mtt6-0-0" style="position: relative\; direction: ltr\; font-family: inherit\;"><span data-offset-key="3mtt6-0-0" style="font-family: inherit\;">Hidden valley Camp</span></div>\n</div>\n\n<div data-block="true" data-editor="cf84n" data-offset-key="5jgks-0-0" style="font-family: Helvetica\, Arial\, sans-serif\; color: rgb(28\, 30\, 33)\; font-size: 12px\; white-space: pre-wrap\;">\n<div class="_1mf _1mj" data-offset-key="5jgks-0-0" style="position: relative\; direction: ltr\; font-family: inherit\;"><span data-offset-key="5jgks-0-0" style="font-family: inherit\;">Autumn of Life</span></div>\n</div>\n\n<div data-block="true" data-editor="cf84n" data-offset-key="2iuh2-0-0" style="font-family: Helvetica\, Arial\, sans-serif\; color: rgb(28\, 30\, 33)\; font-size: 12px\; white-space: pre-wrap\;">\n<div class="_1mf _1mj" data-offset-key="2iuh2-0-0" style="position: relative\; direction: ltr\; font-family: inherit\;"><span data-offset-key="2iuh2-0-0" style="font-family: inherit\;">Inn at Ocean&#39\;s Edge</span></div>\n</div>\n\n<div data-block="true" data-editor="cf84n" data-offset-key="3ect0-0-0" style="font-family: Helvetica\, Arial\, sans-serif\; color: rgb(28\, 30\, 33)\; font-size: 12px\; white-space: pre-wrap\;">\n<div class="_1mf _1mj" data-offset-key="3ect0-0-0" style="position: relative\; direction: ltr\; font-family: inherit\;"><span data-offset-key="3ect0-0-0" style="font-family: inherit\;">City of belfast GA</span></div>\n</div>\n\n<div data-block="true" data-editor="cf84n" data-offset-key="84hsc-0-0" style="font-family: Helvetica\, Arial\, sans-serif\; color: rgb(28\, 30\, 33)\; font-size: 12px\; white-space: pre-wrap\;">\n<div class="_1mf _1mj" data-offset-key="84hsc-0-0" style="position: relative\; direction: ltr\; font-family: inherit\;"><span data-offset-key="84hsc-0-0" style="font-family: inherit\;">Waldo County Communications</span></div>\n</div>\n\n<div data-block="true" data-editor="cf84n" data-offset-key="e3hde-0-0" style="font-family: Helvetica\, Arial\, sans-serif\; color: rgb(28\, 30\, 33)\; font-size: 12px\; white-space: pre-wrap\;">\n<div class="_1mf _1mj" data-offset-key="e3hde-0-0" style="position: relative\; direction: ltr\; font-family: inherit\;"><span data-offset-key="e3hde-0-0" style="font-family: inherit\;">Mondelez International</span></div>\n</div>\n
LOCATION:University of Maine - Hutchinson Center\, 80 Belmont Ave.\, Belfast
UID:e.3098.3116
SEQUENCE:3
DTSTAMP:20260422T190946Z
URL:https://business.belfastmaine.org/events/details/belfast-regional-job-fair-3116
END:VEVENT

END:VCALENDAR
