BEGIN:VCALENDAR
VERSION:2.0
PRODID:-//ChamberMaster//Event Calendar 2.0//EN
METHOD:PUBLISH
X-PUBLISHED-TTL:P3D
REFRESH-INTERVAL:P3D
CALSCALE:GREGORIAN
BEGIN:VEVENT
DTSTART:20250531T180000Z
DTEND:20250531T210000Z
X-MICROSOFT-CDO-ALLDAYEVENT:FALSE
SUMMARY:Book Arts: Cyanotype Printmaking
DESCRIPTION:Experiment with natural patterns and mindful making through cyanotypes!\n\n\n\nThis class will focus on the basics of cyanotype printing techniques with fabric and paper to create a series of prints and fabric patches. Dive into the realm of this photographic printmaking process in this hands-on class as a way to connect to the season and objects around us. This workshop offers an amalgamation of printmaking\, photography\, and fiber processes\, thereby offering infinite possibilities for creativity within each mode of making.\n\n\n\nParticipants will capture shadows through cyanotype printing\, utilizing seasonally foraged plants of the region as well as everyday objects that hold memory or visual intrigue to print with on coated cotton fabric and watercolor paper. Prints will be created indoors using UV lights. No experience with any techniques are necessary to join!\n\nAbout the instructor: Katama Murray (she/her) is an eco artist\, educator\, naturalist\, and small business owner from Blue Hill\, Maine. Her mixed media work and company\, Teach Peace Prints\, are inspired by place-based making and our interconnectedness to the environment. Living and studying throughout regions of New England and the Midwest\, she has always been influenced by the outdoors and the ways in which we coexist with the natural world. Utilizing local\, mindfully foraged natural materials\, she layers print and fiber processes to visually communicate ideas\, observations\, and perpetual experimentation. Katama has a BFA in\n\n\n\nPrintmaking from Plymouth State University in New Hampshire\, and an MFA in Printmaking from Indiana University-Bloomington. She has taught workshops and exhibited work throughout New England and beyond\, yet will always be drawn to the beauty of the Northeast coast. Tuning into the rhythm of the seasons and the plants that exist within those moments of time help to foster a deeper connection to local surroundings with respect\, admiration\, and care. With a passion for slow\, multidisciplinary making\, she strives to learn and teach together with people of all ages\, hoping to inspire others to become more connected to the earth through the power of art and community.
X-ALT-DESC;FMTTYPE=text/html:<span style="font-family:times new roman\,serif">Experiment with natural patterns and mindful making through cyanotypes!<br />\n<br />\nThis class will focus on the basics of cyanotype printing techniques with fabric and paper to create a series of prints and fabric patches. Dive into the realm of this photographic printmaking process in this hands-on class as a way to connect to the season and objects around us. This workshop offers an amalgamation of printmaking\, photography\, and fiber processes\, thereby offering infinite possibilities for creativity within each mode of making.</span><br />\n<br />\n<span style="font-family:times new roman\,serif">Participants will capture shadows through cyanotype printing\, utilizing seasonally foraged plants of the region as well as everyday objects that hold memory or visual intrigue to print with on coated cotton fabric and watercolor paper. Prints will be created indoors using UV lights. No experience with any techniques are necessary to join!</span><br />\n<strong><span style="font-family:times new roman\,serif">About the instructor: Katama Murray</span></strong><span style="font-family:times new roman\,serif">&nbsp\;(she/her)&nbsp\;is an eco artist\, educator\, naturalist\, and small business owner from&nbsp\;Blue Hill\, Maine. Her mixed media work and company\,&nbsp\;Teach Peace Prints\,&nbsp\;are inspired by&nbsp\;place-based making and our interconnectedness to the environment. Living and studying&nbsp\;throughout regions of New England and the Midwest\, she has always been influenced by the&nbsp\;outdoors and the ways in which we coexist with the natural world. Utilizing local\, mindfully&nbsp\;foraged natural materials\, she layers print and fiber processes to visually communicate ideas\,&nbsp\;observations\, and perpetual experimentation. Katama has a BFA in<br />\n<br />\nPrintmaking from Plymouth&nbsp\;State University in New Hampshire\, and an MFA in Printmaking from Indiana&nbsp\;University-Bloomington. She has taught workshops and exhibited work throughout New&nbsp\;England and beyond\, yet will always be drawn to the beauty of the Northeast coast. Tuning into&nbsp\;the rhythm of the seasons and the plants that exist within those moments of time help to foster a&nbsp\;deeper connection to local surroundings with respect\, admiration\, and care. With a passion for&nbsp\;slow\, multidisciplinary making\, she strives to learn and teach together with people of all ages\,&nbsp\;hoping to inspire others to become more connected to the earth through the power of art&nbsp\;and community.&nbsp\;</span>
LOCATION:Waterfall Arts 256 High Street Belfast\, ME 04915
UID:e.3098.10681
SEQUENCE:3
DTSTAMP:20260426T014925Z
URL:https://business.belfastmaine.org/events/details/book-arts-cyanotype-printmaking-10681
END:VEVENT

END:VCALENDAR
