BEGIN:VCALENDAR
VERSION:2.0
PRODID:-//ChamberMaster//Event Calendar 2.0//EN
METHOD:PUBLISH
X-PUBLISHED-TTL:P3D
REFRESH-INTERVAL:P3D
CALSCALE:GREGORIAN
BEGIN:VEVENT
DTSTART:20250517T120000Z
DTEND:20250517T170000Z
X-MICROSOFT-CDO-ALLDAYEVENT:FALSE
SUMMARY:BUMC Indoor Yard Sale
DESCRIPTION:Saturday\, May 17th\n\n8:00a.m.-1:00p.m.\n\nBelfast United Methodist Church\n\n23 Mill Lane\, East Belfast\n\n \n\nLots of items!!\n\nDishes\, books\, kitchen gadgets\, puzzles\, glassware\, some furniture\, toys\, jewelry\, and clothes.\n\nSomething for Everyone!!
X-ALT-DESC;FMTTYPE=text/html:<p style="color: rgb(0\, 0\, 0)\; font-family: &quot\;Times New Roman&quot\;\; font-size: medium\;">Saturday\, May 17th</p>\n\n<p style="color: rgb(0\, 0\, 0)\; font-family: &quot\;Times New Roman&quot\;\; font-size: medium\;">8:00a.m.-1:00p.m.</p>\n\n<p style="color: rgb(0\, 0\, 0)\; font-family: &quot\;Times New Roman&quot\;\; font-size: medium\;">Belfast United Methodist Church</p>\n\n<p style="color: rgb(0\, 0\, 0)\; font-family: &quot\;Times New Roman&quot\;\; font-size: medium\;">23 Mill Lane\, East Belfast</p>\n\n<p style="color: rgb(0\, 0\, 0)\; font-family: &quot\;Times New Roman&quot\;\; font-size: medium\;">&nbsp\;</p>\n\n<p style="color: rgb(0\, 0\, 0)\; font-family: &quot\;Times New Roman&quot\;\; font-size: medium\;">Lots of items!!</p>\n\n<p style="color: rgb(0\, 0\, 0)\; font-family: &quot\;Times New Roman&quot\;\; font-size: medium\;">Dishes\, books\, kitchen gadgets\, puzzles\, glassware\, some furniture\, toys\, jewelry\, and clothes.</p>\n\n<p style="color: rgb(0\, 0\, 0)\; font-family: &quot\;Times New Roman&quot\;\; font-size: medium\;">Something for Everyone!!</p>\n
LOCATION:
UID:e.3098.10684
SEQUENCE:3
DTSTAMP:20260426T015138Z
URL:https://business.belfastmaine.org/events/details/bumc-indoor-yard-sale-10684
END:VEVENT

END:VCALENDAR
