BEGIN:VCALENDAR
VERSION:2.0
PRODID:-//ChamberMaster//Event Calendar 2.0//EN
METHOD:PUBLISH
X-PUBLISHED-TTL:P3D
REFRESH-INTERVAL:P3D
CALSCALE:GREGORIAN
BEGIN:VEVENT
DTSTART:20200520T220000Z
DTEND:20200520T230000Z
X-MICROSOFT-CDO-ALLDAYEVENT:FALSE
SUMMARY:Business After Hours - Edward Jones
DESCRIPTION:Join the Belfast Area Chamber of Commerce for their May business networking event via ZOOM Video Conference\, hosted by Tom Griffith\, Financial Advisor for Edward Jones\, Lincolnville!\n\n\n\nMeet Tom and hear how he has approached serving his clients during this Socially Distanced time. Then\, connect with your colleagues across Waldo County and catch up on their experiences through short stories and reports!\n\n\n\nClick on the FB event page for the Zoom Meeting link
X-ALT-DESC;FMTTYPE=text/html:<span style="color: rgb(29\, 33\, 41)\; font-family: Helvetica\, Arial\, sans-serif\; font-size: 14px\; white-space: pre-wrap\;">Join the Belfast Area Chamber of Commerce for their May business networking event via ZOOM Video Conference\, hosted by Tom Griffith\, Financial Advisor for Edward Jones\, Lincolnville!</span><br style="color: rgb(29\, 33\, 41)\; font-family: Helvetica\, Arial\, sans-serif\; font-size: 14px\; white-space: pre-wrap\;" />\n<br style="color: rgb(29\, 33\, 41)\; font-family: Helvetica\, Arial\, sans-serif\; font-size: 14px\; white-space: pre-wrap\;" />\n<span style="color: rgb(29\, 33\, 41)\; font-family: Helvetica\, Arial\, sans-serif\; font-size: 14px\; white-space: pre-wrap\;">Meet Tom and hear how he has approached serving his clients during this Socially Distanced time. Then\, connect with your colleagues across Waldo County and catch up on their experiences through short stories and reports!</span><br style="color: rgb(29\, 33\, 41)\; font-family: Helvetica\, Arial\, sans-serif\; font-size: 14px\; white-space: pre-wrap\;" />\n<br style="color: rgb(29\, 33\, 41)\; font-family: Helvetica\, Arial\, sans-serif\; font-size: 14px\; white-space: pre-wrap\;" />\n<span style="color: rgb(29\, 33\, 41)\; font-family: Helvetica\, Arial\, sans-serif\; font-size: 14px\; white-space: pre-wrap\;">Click on the FB event page for the Zoom Meeting link</span>
LOCATION:Edward Jones\, Lincolnville Beach
UID:e.3098.3299
SEQUENCE:3
DTSTAMP:20260422T174057Z
URL:https://business.belfastmaine.org/events/details/business-after-hours-edward-jones-3299
END:VEVENT

END:VCALENDAR
