BEGIN:VCALENDAR
VERSION:2.0
PRODID:-//ChamberMaster//Event Calendar 2.0//EN
METHOD:PUBLISH
X-PUBLISHED-TTL:P3D
REFRESH-INTERVAL:P3D
CALSCALE:GREGORIAN
BEGIN:VEVENT
DTSTART:20201022T150000Z
DTEND:20201022T163000Z
X-MICROSOFT-CDO-ALLDAYEVENT:FALSE
SUMMARY:Business as Unusual: Lessons Learned on Leading and Working Remotely
DESCRIPTION:Do you ever wonder why some businesses and people are holding their own during the Coronavirus pandemic while others are struggling to survive? Don't miss this online webinar presented by WardGreen Group and hosted by the Union River Center for Innovation\, where you'll learn: - What could strengthening your leadership skills do for your organization? - How can you set yourself up for success with less stress and strain as you navigate the world of working remotely? Join us at 11 a.m. on Thursday\, October 22nd for a Zoom presentation focused on lessons learned on leading and working remotely. Learn about skills and qualities that strong\, courageous leaders and effective remote workers are putting to good use. Leave with a practical set of ideas you can immediately use and build into your everyday routines of work and life. Reserve your spot today: https://www.eventbrite.com/e/business-as-unusual-lessons-learned-on-leading-and-working-remotely-tickets-123062085009?aff=Calendars *Please note: this is an online event with no physical location.*
X-ALT-DESC;FMTTYPE=text/html:Do you ever wonder why some businesses and people are holding their own during the Coronavirus pandemic while others are struggling to survive? Don&#39\;t miss this online webinar presented by WardGreen Group and hosted by the Union River Center for Innovation\, where you&#39\;ll learn: - What could strengthening your leadership skills do for your organization? - How can you set yourself up for success with less stress and strain as you navigate the world of working remotely? Join us at 11 a.m. on Thursday\, October 22nd for a Zoom presentation focused on lessons learned on leading and working remotely. Learn about skills and qualities that strong\, courageous leaders and effective remote workers are putting to good use. Leave with a practical set of ideas you can immediately use and build into your everyday routines of work and life. Reserve your spot today: https://www.eventbrite.com/e/business-as-unusual-lessons-learned-on-leading-and-working-remotely-tickets-123062085009?aff=Calendars *Please note: this is an online event with no physical location.*
LOCATION:Online Event
UID:e.3098.3424
SEQUENCE:3
DTSTAMP:20260422T085957Z
URL:https://business.belfastmaine.org/events/details/business-as-unusual-lessons-learned-on-leading-and-working-remotely-3424
END:VEVENT

END:VCALENDAR
