BEGIN:VCALENDAR
VERSION:2.0
PRODID:-//ChamberMaster//Event Calendar 2.0//EN
METHOD:PUBLISH
X-PUBLISHED-TTL:P3D
REFRESH-INTERVAL:P3D
CALSCALE:GREGORIAN
BEGIN:VEVENT
DTSTART:20250125T180000Z
DTEND:20250125T200000Z
X-MICROSOFT-CDO-ALLDAYEVENT:FALSE
SUMMARY:CBARF 2025! A Free All Ages Art Happening
DESCRIPTION:Fact: 95% of kids and cats prefer empty boxes over toys.\n\nWaterfall Arts famous All Ages Art Happening\, "CBARF: Cardboard Boxes Are Really Fun!" is coming again this January. We're back at the Waldo County YMCA gymnasium for our 2025 build-a-thon!\n\nThe whole community is invited to bring a roll of packing tape and take to our mountain of cardboard boxes to build  well\, whatever they like! Afterward\, participants smash it all down and the wreckage is sent back to the transfer station to be recycled.\n\nThe gym will have "streets" taped off and parties will claim some well-spaced "property" to work on after grabbing boxes to use for building.\n\nAll children must be accompanied by an adult   they will need a hand with the tape! (It is recommended that builders bring their own clear packing tape. No duct tape and no knives\, please. There will be staff around for custom box cutting!)\n\nFree\, all ages. Note: This event is taking place at the Waldo County YMCA.\n\nAbout All Ages Art Happenings:\n\nThroughout the year\, All Ages Art Happenings (AAAH) engage kids and families through community-building "art parties." These memorably-themed\, multi-sensory experiences are made possible by the generous supporters of Waterfall Arts Kids & Family Outreach Program.
X-ALT-DESC;FMTTYPE=text/html:<h1><em style="font-size:13px"><strong><span style="color:rgb(20\, 24\, 39)\; font-family:helvetica neue">Fact: 95% of kids and cats prefer empty boxes over toys.</span></strong></em></h1>\n\n<p style="margin-left:0in\; margin-right:0in"><span style="color:rgb(20\, 24\, 39)\; font-family:helvetica neue">Waterfall Arts famous All Ages Art Happening\, &ldquo\;CBARF: Cardboard Boxes Are Really Fun!&rdquo\; is coming again this January. We&rsquo\;re back at the Waldo County YMCA gymnasium for our 2025 build-a-thon!</span></p>\n\n<p style="margin-left:0in\; margin-right:0in"><span style="color:rgb(20\, 24\, 39)\; font-family:helvetica neue">The whole community is invited to bring a roll of packing tape and take to our mountain of cardboard boxes to build&hellip\; well\, whatever they like! Afterward\, participants smash it all down and the wreckage is sent back to the transfer station to be recycled.</span></p>\n\n<p style="margin-left:0in\; margin-right:0in"><span style="color:rgb(20\, 24\, 39)\; font-family:helvetica neue">The gym will have &ldquo\;streets&rdquo\; taped off and parties will claim some well-spaced &ldquo\;property&rdquo\; to work on after grabbing boxes to use for building.</span></p>\n\n<p style="margin-left:0in\; margin-right:0in"><strong><span style="color:rgb(20\, 24\, 39)\; font-family:helvetica neue">All children must be accompanied by an adult</span></strong><span style="color:rgb(20\, 24\, 39)\; font-family:helvetica neue">&nbsp\;&ndash\; they will need a hand with the tape! (It is recommended that builders bring their own&nbsp\;<strong>clear packing tape</strong>. No duct tape and no knives\, please. There will be staff around for custom box cutting!)</span></p>\n\n<p style="margin-left:0in\; margin-right:0in"><strong><span style="color:rgb(20\, 24\, 39)\; font-family:helvetica neue">Free\, all ages. Note: This event is taking place at the Waldo County YMCA.</span></strong></p>\n\n<p style="margin-left:0in\; margin-right:0in"><strong><em><span style="color:rgb(20\, 24\, 39)\; font-family:helvetica neue">About All Ages Art Happenings:</span></em></strong></p>\n\n<p style="margin-left:0in\; margin-right:0in"><span style="color:rgb(20\, 24\, 39)\; font-family:helvetica neue">Throughout the year\, All Ages Art Happenings (AAAH) engage kids and families through community-building &ldquo\;art parties.&rdquo\; These memorably-themed\, multi-sensory experiences are made possible by the generous supporters of Waterfall Arts Kids &amp\; Family Outreach Program.</span></p>\n
LOCATION:Waldo County YMCA 157 Lincolnville Ave Belfast\, ME 04915 United States
UID:e.3098.10102
SEQUENCE:3
DTSTAMP:20260422T155230Z
URL:https://business.belfastmaine.org/events/details/cbarf-2025-a-free-all-ages-art-happening-10102
END:VEVENT

END:VCALENDAR
