BEGIN:VCALENDAR
VERSION:2.0
PRODID:-//ChamberMaster//Event Calendar 2.0//EN
METHOD:PUBLISH
X-PUBLISHED-TTL:P3D
REFRESH-INTERVAL:P3D
CALSCALE:GREGORIAN
BEGIN:VEVENT
DTSTART:20250502T230000Z
DTEND:20250503T010000Z
X-MICROSOFT-CDO-ALLDAYEVENT:FALSE
SUMMARY:Celtic meets Ugandan Folk Music. Neil Pearlman and Giovanni Kiyingi at Bagaduce Music\, Blue Hill
DESCRIPTION:A special concert bringing together two accomplished and innovative traditional musicians from different cultures in a unique duo collaboration. Ugandan folk singer-songwriter and multi-instrumentalist Giovanni Kiyingi joins Celtic pianist\, mandolinist and step-dancer Neil Pearlman in a wide ranging musical evening blending new and old music from Uganda to Scotland.\n\nBagaduce Music is a 501(c)(3) nonprofit organization fostering musical experiences throughout Maine's coastline. The organization offers classes\, ensembles\, concerts\, dances\, and community singing for individuals of all ages and abilities\, with tuition assistance available.\n\nTickets and information for are available at www.bagaducemusic.org\, lydia@bagaducemusic.org or 207-374-5454.
X-ALT-DESC;FMTTYPE=text/html:<p><span style="color:rgb(58\, 50\, 71)\; font-family:roboto\,sans-serif\; font-size:12pt">A special concert bringing together two accomplished and innovative traditional musicians from different cultures in a unique duo collaboration. Ugandan folk singer-songwriter and multi-instrumentalist Giovanni Kiyingi joins Celtic pianist\, mandolinist and step-dancer Neil Pearlman in a wide ranging musical evening blending new and old music from Uganda to Scotland.</span></p>\n\n<p><em>Bagaduce Music is a 501(c)(3) nonprofit organization fostering musical experiences throughout Maine&#39\;s coastline. The organization offers classes\, ensembles\, concerts\, dances\, and community singing for individuals of all ages and abilities\, with tuition assistance available.</em></p>\n\n<p><span style="background-color:transparent\; color:rgb(0\, 0\, 0)\; font-family:arial\,sans-serif\; font-size:11pt">Tickets and information for are available at </span><a href="http://www.bagaducemusic.org" style="text-decoration-line: none\;"><span style="background-color:transparent\; color:rgb(17\, 85\, 204)\; font-family:arial\,sans-serif\; font-size:11pt">www.bagaducemusic.org</span></a><span style="background-color:transparent\; color:rgb(0\, 0\, 0)\; font-family:arial\,sans-serif\; font-size:11pt">\, lydia@bagaducemusic.org or 207-374-5454.&nbsp\;</span></p>\n\n<div>&nbsp\;</div>\n
LOCATION:Bagaduce Music 49 South St\, Blue Hill\, ME 04614
UID:e.3098.10673
SEQUENCE:3
DTSTAMP:20260426T015345Z
URL:https://business.belfastmaine.org/events/details/celtic-meets-ugandan-folk-music-neil-pearlman-and-giovanni-kiyingi-at-bagaduce-music-blue-hill-10673
END:VEVENT

END:VCALENDAR
