BEGIN:VCALENDAR
VERSION:2.0
PRODID:-//ChamberMaster//Event Calendar 2.0//EN
METHOD:PUBLISH
X-PUBLISHED-TTL:P3D
REFRESH-INTERVAL:P3D
CALSCALE:GREGORIAN
BEGIN:VEVENT
DTSTART:20250503T230000Z
DTEND:20250504T010000Z
X-MICROSOFT-CDO-ALLDAYEVENT:FALSE
SUMMARY:Celtic meets Ugandan Folk Music. Neil Pearlman and Giovanni Kiyingi at Marsh River Theater\, Brooks
DESCRIPTION:A special concert bringing together two accomplished and innovative traditional musicians from different cultures in a unique duo collaboration. Ugandan folk singer-songwriter and multi-instrumentalist Giovanni Kiyingi will join Celtic pianist\, mandolinist and step-dancer Neil Pearlman in a wide-ranging musical evening blending new and old music from Uganda to Scotland.\n\nBagaduce Music is a 501(c)(3) nonprofit organization fostering musical experiences throughout Maine's coastline. The organization offers classes\, ensembles\, concerts\, dances\, and community singing for individuals of all ages and abilities\, with tuition assistance available.\nTickets and information for are available at www.bagaducemusic.org\, lydia@bagaducemusic.org or 207-374-5454.
X-ALT-DESC;FMTTYPE=text/html:&nbsp\;\n<p><span style="color:rgb(58\, 50\, 71)\; font-family:roboto\,sans-serif\; font-size:12pt">A special concert bringing together two accomplished and innovative traditional musicians from different cultures in a unique duo collaboration. Ugandan folk singer-songwriter and multi-instrumentalist Giovanni Kiyingi will join Celtic pianist\, mandolinist and step-dancer Neil Pearlman in a wide-ranging musical evening blending new and old music from Uganda to Scotland.</span></p>\n\n<p><em>Bagaduce Music is a 501(c)(3) nonprofit organization fostering musical experiences throughout Maine&#39\;s coastline. The organization offers classes\, ensembles\, concerts\, dances\, and community singing for individuals of all ages and abilities\, with tuition assistance available.</em></p>\n<span style="background-color:transparent\; color:rgb(0\, 0\, 0)\; font-family:arial\,sans-serif\; font-size:11pt">Tickets and information for are available at </span><a href="http://www.bagaducemusic.org" style="text-decoration-line: none\;"><span style="background-color:transparent\; color:rgb(17\, 85\, 204)\; font-family:arial\,sans-serif\; font-size:11pt">www.bagaducemusic.org</span></a><span style="background-color:transparent\; color:rgb(0\, 0\, 0)\; font-family:arial\,sans-serif\; font-size:11pt">\, lydia@bagaducemusic.org or 207-374-5454.</span>
LOCATION:Marsh River Theater 24 Monroe Highway\, Brooks\, ME 04921
UID:e.3098.10674
SEQUENCE:3
DTSTAMP:20260426T015253Z
URL:https://business.belfastmaine.org/events/details/celtic-meets-ugandan-folk-music-neil-pearlman-and-giovanni-kiyingi-at-marsh-river-theater-brooks-10674
END:VEVENT

END:VCALENDAR
