BEGIN:VCALENDAR
VERSION:2.0
PRODID:-//ChamberMaster//Event Calendar 2.0//EN
METHOD:PUBLISH
X-PUBLISHED-TTL:P3D
REFRESH-INTERVAL:P3D
CALSCALE:GREGORIAN
BEGIN:VEVENT
DTSTART:20200422T150000Z
DTEND:20200422T154500Z
X-MICROSOFT-CDO-ALLDAYEVENT:FALSE
SUMMARY:CPIS: Cyber Security in these Perilous Times
DESCRIPTION:CHAMBER PANDEMIC INFORMATION SERIES\n\n\n\nBelfast Area Chamber of Commerce is launching a weekly ZOOM call-in / video-in series of short presentations and Q&As with key resources during this pandemic and economic crisis.\n\n\n\nThis is a free call/video-in for Chamber Members and the overall Waldo County business community.\n\n\n\nApril 22nd 11 am   Shawn Myers\, Midcoast Tech   "Cyber Security in these Perilous Times"\n\n \nJoin Zoom Meeting at:\n\nhttps://us04web.zoom.us/j/72109857544?pwd=YzEyR3NjYlkxc0xWdmcwRm9JV28wQT09\n\n\n\n\n  You can participate by computer\, laptop\, tablet\, or smart phone ! You will be asked to allow ZOOM to access functions on your device\; go ahead and "Allow."\n\n\n\n  You may want to download the ZOOM App ahead of time or at least go to http://www.zoom.us to test your microphone\, camera and ability to get into the site!
X-ALT-DESC;FMTTYPE=text/html:<span style="color: rgb(29\, 33\, 41)\; font-family: Helvetica\, Arial\, sans-serif\; font-size: 14px\; white-space: pre-wrap\;">CHAMBER PANDEMIC INFORMATION SERIES</span><br style="color: rgb(29\, 33\, 41)\; font-family: Helvetica\, Arial\, sans-serif\; font-size: 14px\; white-space: pre-wrap\;" />\n<br style="color: rgb(29\, 33\, 41)\; font-family: Helvetica\, Arial\, sans-serif\; font-size: 14px\; white-space: pre-wrap\;" />\n<span style="color: rgb(29\, 33\, 41)\; font-family: Helvetica\, Arial\, sans-serif\; font-size: 14px\; white-space: pre-wrap\;">Belfast Area Chamber of Commerce is launching a weekly ZOOM call-in / video-in series of short presentations and Q&amp\;As with key resources during this pandemic and economic crisis.</span><br style="color: rgb(29\, 33\, 41)\; font-family: Helvetica\, Arial\, sans-serif\; font-size: 14px\; white-space: pre-wrap\;" />\n<br style="color: rgb(29\, 33\, 41)\; font-family: Helvetica\, Arial\, sans-serif\; font-size: 14px\; white-space: pre-wrap\;" />\n<span style="color: rgb(29\, 33\, 41)\; font-family: Helvetica\, Arial\, sans-serif\; font-size: 14px\; white-space: pre-wrap\;">This is a free call/video-in for Chamber Members and the overall Waldo County business community.</span><br style="color: rgb(29\, 33\, 41)\; font-family: Helvetica\, Arial\, sans-serif\; font-size: 14px\; white-space: pre-wrap\;" />\n<br style="color: rgb(29\, 33\, 41)\; font-family: Helvetica\, Arial\, sans-serif\; font-size: 14px\; white-space: pre-wrap\;" />\n<span style="color: rgb(29\, 33\, 41)\; font-family: Helvetica\, Arial\, sans-serif\; font-size: 14px\; white-space: pre-wrap\;">April 22nd 11 am &ndash\; Shawn Myers\, Midcoast Tech &ndash\; &ldquo\;Cyber Security in these Perilous Times&rdquo\;</span><br />\n&nbsp\;\n<p style="color: rgb(32\, 31\, 30)\; font-size: 11pt\; font-family: Calibri\, sans-serif\; margin: 0px\;"><span style="margin: 0px\; padding: 0px\; border: 0px\; font-style: inherit\; font-variant: inherit\; font-weight: inherit\; font-stretch: inherit\; font-size: inherit\; line-height: inherit\; font-family: &quot\;Times New Roman&quot\;\, serif\; vertical-align: baseline\; color: inherit\;">Join Zoom Meeting at:</span></p>\n\n<p style="color: rgb(32\, 31\, 30)\; font-size: 11pt\; font-family: Calibri\, sans-serif\; margin: 0px\;"><a data-auth="NotApplicable" href="https://us04web.zoom.us/j/72109857544?pwd=YzEyR3NjYlkxc0xWdmcwRm9JV28wQT09" id="LPlnk170962" rel="noopener noreferrer" style="margin: 0px\; padding: 0px\; border: 0px\; font: inherit\; vertical-align: baseline\;" target="_blank"><span style="margin: 0px\; padding: 0px\; border: 0px\; font-style: inherit\; font-variant: inherit\; font-weight: inherit\; font-stretch: inherit\; font-size: inherit\; line-height: inherit\; font-family: &quot\;Times New Roman&quot\;\, serif\; vertical-align: baseline\; color: inherit\;">https://us04web.zoom.us/j/72109857544?pwd=YzEyR3NjYlkxc0xWdmcwRm9JV28wQT09</span></a></p>\n<br style="color: rgb(29\, 33\, 41)\; font-family: Helvetica\, Arial\, sans-serif\; font-size: 14px\; white-space: pre-wrap\;" />\n<br style="color: rgb(29\, 33\, 41)\; font-family: Helvetica\, Arial\, sans-serif\; font-size: 14px\; white-space: pre-wrap\;" />\n<span style="color: rgb(29\, 33\, 41)\; font-family: Helvetica\, Arial\, sans-serif\; font-size: 14px\; white-space: pre-wrap\;">&bull\; You can participate by computer\, laptop\, tablet\, or smart phone ! You will be asked to allow ZOOM to access functions on your device\; go ahead and &ldquo\;Allow.&quot\;</span><br style="color: rgb(29\, 33\, 41)\; font-family: Helvetica\, Arial\, sans-serif\; font-size: 14px\; white-space: pre-wrap\;" />\n<br style="color: rgb(29\, 33\, 41)\; font-family: Helvetica\, Arial\, sans-serif\; font-size: 14px\; white-space: pre-wrap\;" />\n<span style="color: rgb(29\, 33\, 41)\; font-family: Helvetica\, Arial\, sans-serif\; font-size: 14px\; white-space: pre-wrap\;">&bull\; You may want to download the ZOOM App ahead of time or at least go to </span><a data-lynx-mode="hover" data-lynx-uri="https://l.facebook.com/l.php?u=http%3A%2F%2Fwww.zoom.us%2F%3Ffbclid%3DIwAR2Kunv_TPOePVFbaRqXHNmaTXfXlccM0t0k_rS1Z5hS6bHixogl6UhYUvk&amp\;h=AT1DPCNnK8lnXUNodRd0JXxjWwW19-9lQsxyW0dfo8K7UO6ACTrzuD3LjgqX8N-0qag7ULA_cYn8oU4V2v3ZcyFVU1JvmkQfISeRT5gKE2or_l0iMWAst4q2u5_qrG8NXtEc" href="http://www.zoom.us/?fbclid=IwAR2Kunv_TPOePVFbaRqXHNmaTXfXlccM0t0k_rS1Z5hS6bHixogl6UhYUvk" rel="nofollow noopener" style="color: rgb(56\, 88\, 152)\; cursor: pointer\; text-decoration-line: none\; font-family: Helvetica\, Arial\, sans-serif\; font-size: 14px\; white-space: pre-wrap\;" target="_blank">http://www.zoom.us</a><span style="color: rgb(29\, 33\, 41)\; font-family: Helvetica\, Arial\, sans-serif\; font-size: 14px\; white-space: pre-wrap\;"> to test your microphone\, camera and ability to get into the site!</span>
LOCATION:ZOOM Video Conference
UID:e.3098.3292
SEQUENCE:3
DTSTAMP:20260422T190853Z
URL:https://business.belfastmaine.org/events/details/cpis-cyber-security-in-these-perilous-times-3292
END:VEVENT

END:VCALENDAR
