BEGIN:VCALENDAR
VERSION:2.0
PRODID:-//ChamberMaster//Event Calendar 2.0//EN
METHOD:PUBLISH
X-PUBLISHED-TTL:P3D
REFRESH-INTERVAL:P3D
CALSCALE:GREGORIAN
BEGIN:VEVENT
DTSTART:20201027T170000Z
DTEND:20201027T200000Z
X-MICROSOFT-CDO-ALLDAYEVENT:FALSE
SUMMARY:Decorate Your Own Halloween Bag
DESCRIPTION:Join the Belfast Free Library for safely-distanced outdoor Halloween programs for families\, kids\, and teens this month!\n\nDecorate-your-own fabric Halloween bags\, featuring designs for both young kids and teens\, will be available at the library on Tuesday\, October 27th from 1:00   4:00 pm. Library patrons are invited to pick up a bag in the lobby to decorate at home or sit on the library plaza to color bags with fabric markers. The rain date for this event is Thursday\, October 29 (1:00   4:00 pm). Following the program\, bags will be available on the children's floor while supplies last.\n\nAll library programs are free and open to the public. For more information contact 207-338-3884 ext. 24.
X-ALT-DESC;FMTTYPE=text/html:<p style="color: rgb(32\, 31\, 30)\; font-size: 12pt\; font-family: &quot\;Times New Roman&quot\;\, serif\; background-color: rgb(247\, 247\, 247)\; margin: 0px 0px 7.5pt\;"><span style="margin: 0px\; padding: 0px\; border: 0px\; font: inherit\; vertical-align: baseline\; color: rgb(51\, 51\, 51)\;">Join the Belfast Free Library for safely-distanced outdoor Halloween programs for families\, kids\, and teens this month!</span></p>\n\n<p style="color: rgb(32\, 31\, 30)\; font-size: 12pt\; font-family: &quot\;Times New Roman&quot\;\, serif\; background-color: rgb(247\, 247\, 247)\; margin: 0px 0px 7.5pt\;"><span style="margin: 0px\; padding: 0px\; border: 0px\; font: inherit\; vertical-align: baseline\; color: rgb(51\, 51\, 51)\;">Decorate-your-own fabric Halloween bags\, featuring designs for both young kids and teens\, will be available at the library on Tuesday\, October 27th from 1:00 &ndash\; 4:00 pm. Library patrons are invited to pick up a bag in the lobby to decorate at home or sit on the library plaza to color bags with fabric markers. The rain date for this event is Thursday\, October 29 (1:00 &ndash\; 4:00 pm). Following the program\, bags will be available on the children&rsquo\;s floor while supplies last.</span></p>\n\n<p style="color: rgb(32\, 31\, 30)\; font-size: 12pt\; font-family: &quot\;Times New Roman&quot\;\, serif\; background-color: rgb(247\, 247\, 247)\; margin: 0px\;"><span style="margin: 0px\; padding: 0px\; border: 0px\; font: inherit\; vertical-align: baseline\; color: rgb(51\, 51\, 51)\;">All library programs are free and open to the public. For more information contact 207-338-3884 ext. 24.</span></p>\n
LOCATION:
UID:e.3098.3431
SEQUENCE:3
DTSTAMP:20260422T090101Z
URL:https://business.belfastmaine.org/events/details/decorate-your-own-halloween-bag-3431
END:VEVENT

END:VCALENDAR
