BEGIN:VCALENDAR
VERSION:2.0
PRODID:-//ChamberMaster//Event Calendar 2.0//EN
METHOD:PUBLISH
X-PUBLISHED-TTL:P3D
REFRESH-INTERVAL:P3D
CALSCALE:GREGORIAN
BEGIN:VEVENT
DTSTART:20250128T223000Z
DTEND:20250129T003000Z
X-MICROSOFT-CDO-ALLDAYEVENT:FALSE
SUMMARY:Discovering Your Voice With Watercolor
DESCRIPTION:Dates: January 28\, February 4\, 11\, 25\, March 4\, 11\, 18\, 25 (no class 2/18).\nIn this 8-week class we will be using watercolors in playful and exploratory ways to discover what we want to communicate with our art. Assignments will vary wildly\, but they will be in service of homing in on ideas\, topics or methodologies that feel personal\, interesting\, or important to each artist. This class is best for folks with some watercolor experience\, but beginners are welcome\, too.\n\nMaterials list*: Sketching pencils & pens\, eraser\, pad of watercolor paper\, watercolor set (hard pan or tubes)\, masking fluid\, small tube of white gouache paint. Waterfall Arts has many of these items available to share if don't have them all!\n\nAbout the instructor: Amy Bird holds a Masters in Painting from Rhode Island School of Design.  She lives in Belfast with her husband\, 2 daughters\, and 2 dogs. Although she used to show her paintings at fancypants galleries in Los Angeles\, Santa Barbara\, and Ketchum\, Idaho\, nowadays if she can find 15 minutes\, she's pretty excited to just push some paint around paper and see what happens.
X-ALT-DESC;FMTTYPE=text/html:<span style="color:#141827"><span style="font-family:helvetica neue"><span style="font-size:13.5pt">Dates: January 28\, February 4\, 11\, 25\, March 4\, 11\, 18\, 25 (<strong>no class 2/18</strong>).</span></span></span>\n<p style="margin-left:0in\; margin-right:0in"><span style="color:rgb(20\, 24\, 39)\; font-family:helvetica neue">In this 8-week class we will be using watercolors in playful and exploratory ways to discover what we want to communicate with our art. Assignments will vary wildly\, but they will be in service of homing in on ideas\, topics or methodologies that feel personal\, interesting\, or important to each artist. This class is best for folks with some watercolor experience\, but beginners are welcome\, too.</span></p>\n\n<p style="margin-left:0in\; margin-right:0in"><em><span style="color:rgb(20\, 24\, 39)\; font-family:helvetica neue">Materials list*: Sketching pencils &amp\; pens\, eraser\, pad of watercolor paper\, watercolor set (hard pan or tubes)\, masking fluid\, small tube of white gouache paint. Waterfall Arts has many of these items available to share if don&rsquo\;t have them all!</span></em></p>\n\n<p style="margin-left:0in\; margin-right:0in"><strong><span style="color:rgb(20\, 24\, 39)\; font-family:helvetica neue">About the instructor: Amy Bird</span></strong><span style="color:rgb(20\, 24\, 39)\; font-family:helvetica neue">&nbsp\;holds a Masters in Painting from Rhode Island School of Design.&nbsp\; She lives in Belfast with her husband\, 2 daughters\, and 2 dogs. Although she used to show her paintings at fancypants galleries in Los Angeles\, Santa Barbara\, and Ketchum\, Idaho\, nowadays if she can find 15 minutes\, she&rsquo\;s pretty excited to just push some paint around paper and see what happens.</span></p>\n
LOCATION:Waterfall Arts 256 High Street Belfast\, ME 04915
UID:e.3098.10103
SEQUENCE:3
DTSTAMP:20260422T155128Z
URL:https://business.belfastmaine.org/events/details/discovering-your-voice-with-watercolor-01-28-2025-10103
END:VEVENT

END:VCALENDAR
