BEGIN:VCALENDAR
VERSION:2.0
PRODID:-//ChamberMaster//Event Calendar 2.0//EN
METHOD:PUBLISH
X-PUBLISHED-TTL:P3D
REFRESH-INTERVAL:P3D
CALSCALE:GREGORIAN
BEGIN:VEVENT
DTSTART;VALUE=DATE:20250409
DTEND;VALUE=DATE:20250410
TRANSP:TRANSPARENT
X-MICROSOFT-CDO-ALLDAYEVENT:TRUE
SUMMARY:Event Planning for Nonprofits Workshop
DESCRIPTION:LEARN@UMC "Event Planning for Nonprofits" Workshop\n\n\n\nCAMDEN   March 24\, 2025 United Midcoast Charities (UMC) would like to announce its next LEARN@UMC workshop\, "Event Planning for Nonprofits"\, which will be held on Wednesday\, April 9\, from 9 am to 10:30 am at the UMC office in Camden. UMC is partnering with Kristen Winters\, former owner and creative director of Beehive Creative. Kristen brings over 13 years of experience in designing meaningful and timeless events in Maine. Known for her deep love of coastal beauty and her ability to create elegant celebrations\, Kristen collaborated with talented teams to bring her clients' visions to life. Her expertise has been featured in various print and online publications\, showcasing her success in the wedding industry.\n\n\n\nIn addition to her professional achievements\, Kristen has generously shared her event planning expertise with local nonprofits through her involvement in board affiliations and community initiatives. In 2023\, she made the bittersweet decision to step away from wedding planning to focus on her family and spend more summers with her daughter. Today\, Kristen continues her work as a dedicated clinician\, supporting children\, adolescents\, adults\, and families through her roles in school-based settings and private practice. She is also an active member of the Sundog Outdoor Leadership Initiative board.\n\n\n\nRegistration is now open. This workshop is free for current UMC grantee organizations\, and open to area nonprofits for a $20 fee. Space is limited so RSVP right away. Please call 207-236-2299 or email admin@unitedmidcoastcharities.org to register.\n\n\n\n~\n\n\n\nUnited Midcoast Charities plays a pivotal role in providing financial support\, strategic guidance\, and tangible resources to Midcoast nonprofits providing services in our four focus areas of food\, housing\, health & safety\, and economic security. UMC strengthens these community-focused organizations to achieve their missions more effectively and have a greater impact.
X-ALT-DESC;FMTTYPE=text/html:LEARN@UMC &ldquo\;Event Planning for Nonprofits&rdquo\; Workshop<br />\n<br />\nCAMDEN &ndash\; March 24\, 2025&mdash\;United Midcoast Charities (UMC) would like to announce its next LEARN@UMC workshop\, &ldquo\;Event Planning for Nonprofits&rdquo\;\, which will be held on Wednesday\, April 9\, from 9 am to 10:30 am at the UMC office in Camden. UMC is partnering with Kristen Winters\, former owner and creative director of Beehive Creative. Kristen brings over 13 years of experience in designing meaningful and timeless events in Maine. Known for her deep love of coastal beauty and her ability to create elegant celebrations\, Kristen collaborated with talented teams to bring her clients&#39\; visions to life. Her expertise has been featured in various print and online publications\, showcasing her success in the wedding industry.<br />\n<br />\nIn addition to her professional achievements\, Kristen has generously shared her event planning expertise with local nonprofits through her involvement in board affiliations and community initiatives. In 2023\, she made the bittersweet decision to step away from wedding planning to focus on her family and spend more summers with her daughter. Today\, Kristen continues her work as a dedicated clinician\, supporting children\, adolescents\, adults\, and families through her roles in school-based settings and private practice. She is also an active member of the Sundog Outdoor Leadership Initiative board.<br />\n<br />\nRegistration is now open. This workshop is free for current UMC grantee organizations\, and open to area nonprofits for a $20 fee. Space is limited so RSVP right away. Please call 207-236-2299 or email admin@unitedmidcoastcharities.org to register.<br />\n<br />\n~<br />\n<br />\nUnited Midcoast Charities plays a pivotal role in providing financial support\, strategic guidance\, and tangible resources to Midcoast nonprofits providing services in our four focus areas of food\, housing\, health &amp\; safety\, and economic security. UMC strengthens these community-focused organizations to achieve their missions more effectively and have a greater impact.
LOCATION:87 Elm St. Unit 205\, Camden\, ME 04843
UID:e.3098.10638
SEQUENCE:3
DTSTAMP:20260422T203943Z
URL:https://business.belfastmaine.org/events/details/event-planning-for-nonprofits-workshop-10638
END:VEVENT

END:VCALENDAR
