BEGIN:VCALENDAR
VERSION:2.0
PRODID:-//ChamberMaster//Event Calendar 2.0//EN
METHOD:PUBLISH
X-PUBLISHED-TTL:P3D
REFRESH-INTERVAL:P3D
CALSCALE:GREGORIAN
BEGIN:VEVENT
DTSTART:20250223T000000Z
DTEND:20250223T020000Z
X-MICROSOFT-CDO-ALLDAYEVENT:FALSE
SUMMARY:Everyman Repertory Theatre presents 'The Philadelphia Story'
DESCRIPTION:Come and join us on February 22nd at 7pm at Pascal Hall in Rockport as we continue our 2025 season with the first of three Forgotten Classics of the 1930s\, 40s\, 50s - The Philadelphia Story.\n\n\n\nThis smash Broadway comedy\, about an eventful wedding weekend at the estate of a wealthy American family\, inspired an Oscar-winning film and the hit musical High Society.\n\n\n\nIt may be a stretch to refer to one of Katherine Hepburn's most famous films as a "forgotten classic\," but that was the movie\, not the play. None of us can remember a production of the play anywhere recently\, and the play came first.\n\n\n\nCast includes: Laura Houck\, Michael Amico\, Jim Reitz\, Dagney Ernest\, Cory Burns\, Joseph Cote\, Beverly Scott\, Jennifer Hodgson\, Scott Anthony Smith\, and Paul Hodgson\, who also directs.\n\n\n\nThe second and third in the series are Bus Stop by William Inge on Saturday March 15th at 7pm and Detective Story by Sydney Kingsley on Saturday April 12th also at 7pm. All productions will be at Pascal Hall\, 86 Pascal Avenue\, Rockport.\n\n\n\nTickets are available now at www.everymanrep.org. They will also be available at the door\, as well as from Left Bank Books in Belfast. You can also call the box office and reserve tickets: 207-236-0173. We encourage you to book early. Special thanks to Bangor Savings Bank for being our Series Sponsor.
X-ALT-DESC;FMTTYPE=text/html:<span style="font-family:arial\,sans-serif\;">Come and join us on February 22nd at 7pm at Pascal Hall in Rockport as we continue our 2025 season with the first of three Forgotten Classics of the 1930s\, 40s\, 50s -&nbsp\;<em>The Philadelphia Story</em>.</span><br />\n<br />\n<span style="font-family:arial\,sans-serif\;">This smash Broadway comedy\, about an eventful wedding weekend at the estate of a wealthy American family\, inspired an Oscar-winning film and the hit musical&nbsp\;<em>High Society</em>.</span><br />\n<br />\n<span style="font-family:arial\,sans-serif\;">It may be a stretch to refer to one of Katherine Hepburn&rsquo\;s most famous films as a &ldquo\;forgotten classic\,&rdquo\; but that was the movie\, not the play. None of us can remember a production of the play anywhere recently\, and the play came first.</span><br />\n<br />\n<span style="font-family:arial\,sans-serif\;">Cast includes: Laura Houck\, Michael Amico\, Jim Reitz\, Dagney Ernest\, Cory Burns\, Joseph Cote\, Beverly Scott\, Jennifer Hodgson\, Scott Anthony Smith\, and Paul Hodgson\, who also directs.</span><br />\n<br />\n<span style="font-family:arial\,sans-serif\;">The second and third in the series are&nbsp\;<em>Bus Stop</em>&nbsp\;by William Inge on Saturday March 15th at 7pm and&nbsp\;<em>Detective Story</em>&nbsp\;by Sydney Kingsley on Saturday April 12th also at 7pm. All productions will be at Pascal Hall\, 86 Pascal Avenue\, Rockport.</span><br />\n<br />\n<span style="font-family:arial\,sans-serif\;">Tickets are available now at&nbsp\;<a data-saferedirecturl="https://www.google.com/url?q=http://www.everymanrep.org&amp\;source=gmail&amp\;ust=1739109263651000&amp\;usg=AOvVaw2V0GI88scBlbVvFgOrcSRK" href="http://www.everymanrep.org/" style="color:rgb(17\, 85\, 204)\;" target="_blank">www.everymanrep.org</a>. They will also be available at the door\, as well as from Left Bank Books in Belfast. You can also call the box office and reserve tickets: 207-236-0173. We encourage you to book early. Special thanks to Bangor Savings Bank for being our Series Sponsor.</span>
LOCATION:Pascal Hall\, 86 Pascal Avenue\, Rockport.
UID:e.3098.10142
SEQUENCE:3
DTSTAMP:20260422T191335Z
URL:https://business.belfastmaine.org/events/details/everyman-repertory-theatre-presents-the-philadelphia-story-10142
END:VEVENT

END:VCALENDAR
