BEGIN:VCALENDAR
VERSION:2.0
PRODID:-//ChamberMaster//Event Calendar 2.0//EN
METHOD:PUBLISH
X-PUBLISHED-TTL:P3D
REFRESH-INTERVAL:P3D
CALSCALE:GREGORIAN
BEGIN:VEVENT
DTSTART:20201013T130000Z
DTEND:20201013T160000Z
X-MICROSOFT-CDO-ALLDAYEVENT:FALSE
SUMMARY:Fall Foliage Sea Kayak Tours
DESCRIPTION:Join North Star Adventures for a three hour Fall Foliage Tour of Belfast Harbor. Launching from the public boat landing we will explore the coast and soak in the fall colors from our sea kayaks. Multiple dates are available. Tours begin October 5th and finish on October 16.\n\nWe have several options depending on tides and weather. Crossing the channel we have the option of paddling down the  Passagassawakeag and exploring the tidal river.  The river name is of Native American origin and is believed to mean "a sturgeon's place" or "a place for spearing sturgeon by torchlight. We also have the option to paddle into Penobscot Bay and explore the coast toward Moose Point or Little River. Mornings are the best time to experience the beauty and tranquility of Belfast Harbor.\n\nWhat we provide: Sea Kayaks and paddling gear\, instruction\, hot drinks and a small snack.
X-ALT-DESC;FMTTYPE=text/html:<p>Join North Star Adventures for a three hour Fall Foliage Tour of Belfast Harbor. Launching from the public boat landing we will explore the coast and soak in the fall colors from our sea kayaks.<strong>&nbsp\;Multiple dates are available. Tours begin October 5th and finish on October 16.</strong></p>\n\n<p>We have several options depending on tides and weather. Crossing the channel we have the option of paddling down the&nbsp\; Passagassawakeag and exploring the tidal river.&nbsp\; The river name is of Native American origin and is believed to mean &ldquo\;a sturgeon&rsquo\;s place&rdquo\; or &ldquo\;a place for spearing sturgeon by torchlight. We also have the option to paddle into Penobscot Bay and explore the coast toward Moose Point or Little River. Mornings are the best time to experience the beauty and tranquility of Belfast Harbor.</p>\n\n<p><strong>What we provide:</strong>&nbsp\;Sea Kayaks and paddling gear\, instruction\, hot drinks and a small snack.</p>\n\n<p>&nbsp\;</p>\n
LOCATION:Belfast Harbor\, Maine
UID:e.3098.3413
SEQUENCE:3
DTSTAMP:20260420T123624Z
URL:https://business.belfastmaine.org/events/details/fall-foliage-sea-kayak-tours-10-13-2020-3413
END:VEVENT

END:VCALENDAR
