BEGIN:VCALENDAR
VERSION:2.0
PRODID:-//ChamberMaster//Event Calendar 2.0//EN
METHOD:PUBLISH
X-PUBLISHED-TTL:P3D
REFRESH-INTERVAL:P3D
CALSCALE:GREGORIAN
BEGIN:VEVENT
DTSTART:20200705T010000Z
DTEND:20200705T020000Z
X-MICROSOFT-CDO-ALLDAYEVENT:FALSE
SUMMARY:Fireworks hosted by Captain Nickels Inn
DESCRIPTION:Come view a live fireworks display in Searsport! Fireworks can be viewed from around the bay. This event is being hosted by Captain Nickels Inn. There is a gofundme (gf.me/u/x8vwi8) to help contribute to the display.
X-ALT-DESC;FMTTYPE=text/html:Come view a live fireworks display in Searsport! Fireworks can be viewed from around the bay. This event is being hosted by Captain Nickels Inn. There is a gofundme (gf.me/u/x8vwi8) to help contribute to the display.&nbsp\;
LOCATION:Searsport
UID:e.3098.3309
SEQUENCE:3
DTSTAMP:20260422T140349Z
URL:https://business.belfastmaine.org/events/details/fireworks-hosted-by-captain-nickels-inn-3309
END:VEVENT

END:VCALENDAR
