BEGIN:VCALENDAR
VERSION:2.0
PRODID:-//ChamberMaster//Event Calendar 2.0//EN
METHOD:PUBLISH
X-PUBLISHED-TTL:P3D
REFRESH-INTERVAL:P3D
CALSCALE:GREGORIAN
BEGIN:VEVENT
DTSTART:20200823T000000Z
DTEND:20200823T120000Z
X-MICROSOFT-CDO-ALLDAYEVENT:FALSE
SUMMARY:Fort Knox Ghost Camp
DESCRIPTION:Ever been camping......in a 150 year old fort....with professional ghost trackers? Bring your tents and sleeping bags for an exciting all night ghost hunting experience with the 207 Paranormal Ghost Trackers. Guests become part of a paranormal investigation using high tech night vision and sensor equipment while exploring every nook and cranny of massive Fort Knox. Then just try and get some sleep afterward after discovering what goes bump in the night is in the next room. Sandwiches\, snacks\, drinks and a light breakfast included. COVID19 public safety precautions such as group size limitations\, 6' foot social distancing\, cleaning protocols and wear of masks/face coverings is required as appropriate during this event.
X-ALT-DESC;FMTTYPE=text/html:Ever been camping......in a 150 year old fort....with professional ghost trackers? Bring your tents and sleeping bags for an exciting all night ghost hunting experience with the 207 Paranormal Ghost Trackers. Guests become part of a paranormal investigation using high tech night vision and sensor equipment while exploring every nook and cranny of massive Fort Knox. Then just try and get some sleep afterward after discovering what goes bump in the night is in the next room. Sandwiches\, snacks\, drinks and a light breakfast included. COVID19 public safety precautions such as group size limitations\, 6&#39\; foot social distancing\, cleaning protocols and wear of masks/face coverings is required as appropriate during this event.&nbsp\;
LOCATION:Friends of Fort Knox -740 Ft. Knox Rd\, Prospect\, Maine
UID:e.3098.3354
SEQUENCE:3
DTSTAMP:20260420T002151Z
URL:https://business.belfastmaine.org/events/details/fort-knox-ghost-camp-3354
END:VEVENT

END:VCALENDAR
