BEGIN:VCALENDAR
VERSION:2.0
PRODID:-//ChamberMaster//Event Calendar 2.0//EN
METHOD:PUBLISH
X-PUBLISHED-TTL:P3D
REFRESH-INTERVAL:P3D
CALSCALE:GREGORIAN
BEGIN:VEVENT
DTSTART:20200808T170000Z
DTEND:20200809T220000Z
X-MICROSOFT-CDO-ALLDAYEVENT:FALSE
SUMMARY:Fort Knox Paranormal Fair
DESCRIPTION:Ever heard that there is a Bigfoot creature in Maine? Maine has many weird and wondrous secrets. Meet with enthusiasts\, fans and professionals who believe in all things unusual. Guest speakers include psychics\, ghost hunters\, cryptozoologists\, and UFO experts who will demonstrate their gifts and provide lectures and presentations on their natural\, unnatural and supernatural experiences from across Maine.
X-ALT-DESC;FMTTYPE=text/html:Ever heard that there is a Bigfoot creature in Maine? Maine has many weird and wondrous secrets. Meet with enthusiasts\, fans and professionals who believe in all things unusual. Guest speakers include psychics\, ghost hunters\, cryptozoologists\, and UFO experts who will demonstrate their gifts and provide lectures and presentations on their natural\, unnatural and supernatural experiences from across Maine.
LOCATION:Fort Knox State Historic Site 740 Fort Knox Road Prospect\, Maine 04981
UID:e.3098.3106
SEQUENCE:3
DTSTAMP:20260422T122314Z
URL:https://business.belfastmaine.org/events/details/fort-knox-paranormal-fair-3106
END:VEVENT

END:VCALENDAR
