BEGIN:VCALENDAR
VERSION:2.0
PRODID:-//ChamberMaster//Event Calendar 2.0//EN
METHOD:PUBLISH
X-PUBLISHED-TTL:P3D
REFRESH-INTERVAL:P3D
CALSCALE:GREGORIAN
BEGIN:VEVENT
DTSTART:20200501T130000Z
DTEND:20200501T210000Z
X-MICROSOFT-CDO-ALLDAYEVENT:FALSE
SUMMARY:Fort Knox & Penobscot Narrows Observatory Opening Day
DESCRIPTION:How can you tell spring has sprung and summer is coming? The wrought iron gate to Fort Knox is open and the observatory elevator is bringing visitors up 420 feet to look out of the surround of windows for gorgeous panoramic views of mid-coast Maine. See for yourself on May 1st as both the Fort Knox Historic Site and Penobscot Narrows Bridge Observatory (PNO) mark the Opening Day for the 2020 Season.
X-ALT-DESC;FMTTYPE=text/html:How can you tell spring has sprung and summer is coming? The wrought iron gate to Fort Knox is open and the observatory elevator is bringing visitors up 420 feet to look out of the surround of windows for gorgeous panoramic views of mid-coast Maine. See for yourself on May 1st as both the Fort Knox Historic Site and Penobscot Narrows Bridge Observatory (PNO) mark the Opening Day for the 2020 Season.
LOCATION:Penobscot Narrows Observatory & Fort Knox State Historic Site 740 Fort Knox Road Prospect\, Maine 04981
UID:e.3098.3096
SEQUENCE:3
DTSTAMP:20260422T174316Z
URL:https://business.belfastmaine.org/events/details/fort-knox-penobscot-narrows-observatory-opening-day-3096
END:VEVENT

END:VCALENDAR
