BEGIN:VCALENDAR
VERSION:2.0
PRODID:-//ChamberMaster//Event Calendar 2.0//EN
METHOD:PUBLISH
X-PUBLISHED-TTL:P3D
REFRESH-INTERVAL:P3D
CALSCALE:GREGORIAN
BEGIN:VEVENT
DTSTART:20200919T230000Z
DTEND:20200920T020000Z
X-MICROSOFT-CDO-ALLDAYEVENT:FALSE
SUMMARY:Ghosts of Fort Knox Guided Tours
DESCRIPTION:Skeptics and believers will both enjoy joining the 207 Paranormal Ghost Trackers on an after-hours tour through the dark passages of Fort Knox in search of ghosts and paranormal phenomena. Guests become part of a paranormal investigation using high-tech night vision and sensor equipment to discover what goes bump in the night. Snacks and drinks included. COVID19 public safety precautions such as group size limitations\, 6' foot social distancing\, cleaning protocols and wear of masks/face coverings is required as appropriate during this event. \n\nWarning: limited lighting with some hazardous terrain. Bring a flashlight!
X-ALT-DESC;FMTTYPE=text/html:Skeptics and believers will both enjoy joining the 207 Paranormal Ghost Trackers on an after-hours tour through the dark passages of Fort Knox in search of ghosts and paranormal phenomena. Guests become part of a paranormal investigation using high-tech night vision and sensor equipment to discover what goes bump in the night. Snacks and drinks included. COVID19 public safety precautions such as group size limitations\, 6&#39\; foot social distancing\, cleaning protocols and wear of masks/face coverings is required as appropriate during this event.&nbsp\;<br />\nWarning: limited lighting with some hazardous terrain. Bring a flashlight!&nbsp\;
LOCATION:Friends of Fort Knox - 740 Ft. Knox Rd\, Prospect Maine
UID:e.3098.3355
SEQUENCE:3
DTSTAMP:20260422T102556Z
URL:https://business.belfastmaine.org/events/details/ghosts-of-fort-knox-guided-tours-3355
END:VEVENT

END:VCALENDAR
