BEGIN:VCALENDAR
VERSION:2.0
PRODID:-//ChamberMaster//Event Calendar 2.0//EN
METHOD:PUBLISH
X-PUBLISHED-TTL:P3D
REFRESH-INTERVAL:P3D
CALSCALE:GREGORIAN
BEGIN:VEVENT
DTSTART:20201030T140000Z
DTEND:20201031T220000Z
X-MICROSOFT-CDO-ALLDAYEVENT:FALSE
SUMMARY:Halloween StoryWalk
DESCRIPTION:Join the Belfast Free Library for safely-distanced outdoor Halloween programs for families\, kids\, and teens this month!\n\n \n\nThe library\, in coordination with Belfast Parks and Recreation\, will host a Halloween StoryWalk on Friday October 30 and Saturday\, October 31. A StoryWalk is a marked trail featuring pages of a storybook posted on signboards along the route. StoryWalks were designed as a way to inspire parents\, teachers\, and caregivers to take young children outdoors and to enjoy reading stories together. Walking the trail while sharing a storybook promotes childhood literacy as well as outdoor activity for all ages.\n\n \n\nStarting at the Belfast Boathouse\, the StoryWalk trail will make a loop by the water and back along the upper walk. The trail is self-paced and will be open anytime from Friday at 10:00am through sunset on Saturday. Special give-aways will be available on Friday 10:00   noon.\n\n \n\nAll library programs are free and open to the public. For more information contact 207-338-3884 ext. 24.
X-ALT-DESC;FMTTYPE=text/html:<p style="color: rgb(32\, 31\, 30)\; font-size: 12pt\; font-family: &quot\;Times New Roman&quot\;\, serif\; margin: 0px 0px 7.5pt\;"><span style="margin: 0px\; padding: 0px\; border: 0px\; font: inherit\; vertical-align: baseline\; color: rgb(51\, 51\, 51)\;">Join the Belfast Free Library for safely-distanced outdoor Halloween programs for families\, kids\, and teens this month!</span></p>\n\n<p style="color: rgb(32\, 31\, 30)\; font-size: 12pt\; font-family: &quot\;Times New Roman&quot\;\, serif\; margin: 0px\;"><span style="margin: 0px\; padding: 0px\; border: 0px\; font: inherit\; vertical-align: baseline\; color: rgb(51\, 51\, 51)\;">&nbsp\;</span></p>\n\n<p style="color: rgb(32\, 31\, 30)\; font-size: 12pt\; font-family: &quot\;Times New Roman&quot\;\, serif\; margin: 0px\;"><span style="margin: 0px\; padding: 0px\; border: 0px\; font: inherit\; vertical-align: baseline\; color: rgb(51\, 51\, 51)\;">The library\, in coordination with Belfast Parks and Recreation\, will host a Halloween StoryWalk on Friday October 30 and Saturday\, October 31. A&nbsp\;StoryWalk&nbsp\;is a marked trail featuring pages of a storybook posted on signboards along the route.&nbsp\;StoryWalks&nbsp\;were designed as a way to inspire parents\, teachers\, and caregivers to take young children outdoors and to enjoy reading stories together. Walking the trail while sharing a storybook promotes childhood literacy as well as outdoor activity for all ages.</span></p>\n\n<p style="color: rgb(32\, 31\, 30)\; font-size: 12pt\; font-family: &quot\;Times New Roman&quot\;\, serif\; margin: 0px\;"><span style="margin: 0px\; padding: 0px\; border: 0px\; font: inherit\; vertical-align: baseline\; color: rgb(51\, 51\, 51)\;">&nbsp\;</span></p>\n\n<p style="color: rgb(32\, 31\, 30)\; font-size: 12pt\; font-family: &quot\;Times New Roman&quot\;\, serif\; margin: 0px 0px 7.5pt\;"><span style="margin: 0px\; padding: 0px\; border: 0px\; font: inherit\; vertical-align: baseline\; color: rgb(51\, 51\, 51)\;">Starting at the Belfast Boathouse\, the&nbsp\;StoryWalk&nbsp\;trail will make a loop by the water and back along the upper walk. The trail is self-paced and will be open anytime from Friday at 10:00am through sunset on Saturday. Special give-aways will be available on Friday 10:00 &ndash\; noon.</span></p>\n\n<p style="color: rgb(32\, 31\, 30)\; font-size: 12pt\; font-family: &quot\;Times New Roman&quot\;\, serif\; margin: 0px\;"><span style="margin: 0px\; padding: 0px\; border: 0px\; font: inherit\; vertical-align: baseline\; color: rgb(51\, 51\, 51)\;">&nbsp\;</span></p>\n\n<p style="color: rgb(32\, 31\, 30)\; font-size: 12pt\; font-family: &quot\;Times New Roman&quot\;\, serif\; margin: 0px 0px 7.5pt\;"><span style="margin: 0px\; padding: 0px\; border: 0px\; font: inherit\; vertical-align: baseline\; color: rgb(51\, 51\, 51)\;">All library programs are free and open to the public. For more information contact 207-338-3884 ext. 24.</span></p>\n
LOCATION:
UID:e.3098.3432
SEQUENCE:3
DTSTAMP:20260424T084534Z
URL:https://business.belfastmaine.org/events/details/halloween-storywalk-3432
END:VEVENT

END:VCALENDAR
