BEGIN:VCALENDAR
VERSION:2.0
PRODID:-//ChamberMaster//Event Calendar 2.0//EN
METHOD:PUBLISH
X-PUBLISHED-TTL:P3D
REFRESH-INTERVAL:P3D
CALSCALE:GREGORIAN
BEGIN:VEVENT
DTSTART:20200711T140000Z
DTEND:20200711T160000Z
X-MICROSOFT-CDO-ALLDAYEVENT:FALSE
SUMMARY:Images of America - Belfast Book Launch
DESCRIPTION:The Belfast Historical Society & Museum is pleased to announce the publication of Images of America- Belfast by Arcadia Publishing Company. Please join us on Saturday\, July 11\, 10:00 am to 12:00 pm for the book launch\, sale and signing of books by authors Megan Pinette and Jane McLean. The event will be held at the Belfast Free Library entrance patio where social distancing and wearing of face masks will be required. Belfast Historical Society members cost is $19.80. The cost of the book for non-members is $21.99. Cash or checks only\, please.
X-ALT-DESC;FMTTYPE=text/html:<span style="color: rgb(29\, 33\, 41)\; font-family: Helvetica\, Arial\, sans-serif\; font-size: 14px\; white-space: pre-wrap\;">The Belfast Historical Society &amp\; Museum is pleased to announce the publication of Images of America- Belfast by Arcadia Publishing Company. Please join us on Saturday\, July 11\, 10:00 am to 12:00 pm for the book launch\, sale and signing of books by authors Megan Pinette and Jane McLean. The event will be held at the Belfast Free Library entrance patio where social distancing and wearing of face masks will be required. Belfast Historical Society members cost is $19.80. The cost of the book for non-members is $21.99. Cash or checks only\, please.</span>
LOCATION:Belfast Free Library
UID:e.3098.3310
SEQUENCE:3
DTSTAMP:20260422T142316Z
URL:https://business.belfastmaine.org/events/details/images-of-america-belfast-book-launch-3310
END:VEVENT

END:VCALENDAR
