BEGIN:VCALENDAR
VERSION:2.0
PRODID:-//ChamberMaster//Event Calendar 2.0//EN
METHOD:PUBLISH
X-PUBLISHED-TTL:P3D
REFRESH-INTERVAL:P3D
CALSCALE:GREGORIAN
BEGIN:VEVENT
DTSTART:20250412T130000Z
DTEND:20250412T160000Z
X-MICROSOFT-CDO-ALLDAYEVENT:FALSE
SUMMARY:K Arts: Hidden Treasures-Secret Pleasures
DESCRIPTION:Folds\, Nooks and Crannies! In this book arts workshop\, Hidden Treasures-Secret Pleasures participants will explore pamphlet book variations\, including 2 signatures\, accordion pages\, and dos-a-dos.\n\nThese books are great for: Storing keepsakes from special people\, serving as an uplift on sour days\, filling with private jokes\, sayings\, photos as inspiration for a friend who is suffering\, of course\, the variations and uses are endless.\n\nCome play. Bring any lovely fancy papers you have or want to use\, and some will be provided.
X-ALT-DESC;FMTTYPE=text/html:<p style="margin-left:0in\; margin-right:0in"><span style="color:rgb(20\, 24\, 39)\; font-family:helvetica neue">Folds\, Nooks and Crannies! In this book arts workshop\, Hidden Treasures-Secret Pleasures participants will explore pamphlet book variations\, including 2 signatures\, accordion pages\, and dos-a-dos.</span></p>\n\n<p style="margin-left:0in\; margin-right:0in"><span style="color:rgb(20\, 24\, 39)\; font-family:helvetica neue">These books are great for: Storing keepsakes from special people\, serving as an uplift on sour days\, filling with private jokes\, sayings\, photos as inspiration for a friend who is suffering\, of course\, the variations and uses are endless.</span></p>\n\n<p style="margin-left:0in\; margin-right:0in"><span style="color:rgb(20\, 24\, 39)\; font-family:helvetica neue">Come play. Bring any lovely fancy papers you have or want to use\, and some will be provided.</span></p>\n
LOCATION:Waterfall Arts 256 High Street Belfast\, ME 04915
UID:e.3098.10598
SEQUENCE:3
DTSTAMP:20260422T204625Z
URL:https://business.belfastmaine.org/events/details/k-arts-hidden-treasures-secret-pleasures-10598
END:VEVENT

END:VCALENDAR
