BEGIN:VCALENDAR
VERSION:2.0
PRODID:-//ChamberMaster//Event Calendar 2.0//EN
METHOD:PUBLISH
X-PUBLISHED-TTL:P3D
REFRESH-INTERVAL:P3D
CALSCALE:GREGORIAN
BEGIN:VEVENT
DTSTART:20250319T160000Z
DTEND:20250319T180000Z
X-MICROSOFT-CDO-ALLDAYEVENT:FALSE
SUMMARY:Lenten Luncheon Series - Encounters on the Spiritual Journey
DESCRIPTION:Greater Bay Area Ministerium presents the Lenten Luncheon Series - "Encounters on the Spiritual Journey"\n\n\n\nJoin our diverse faith leaders as they speak about defining moments in their spiritual lives and have the opportunity to share the same with community members.\n\n\n\nWednesdays at Noon\, Belfast United Methodist Church\, 23 Mill Lane\, Belfast\n\n\n\nBring your own bag lunch - coffee & dessert provided - All are welcome!\n\n\n\nMarch 12th - Rev. Seongmoon Ahn\n\nMarch 19th - Rev. Loren McGrail\n\nMarch 26th - Rev. Bob Johansen\n\nApril 2nd - Rev. Jean Ashland\n\nApril 9th - Rev. Dr. Kate Winters
X-ALT-DESC;FMTTYPE=text/html:Greater Bay Area Ministerium presents the Lenten Luncheon Series - &quot\;Encounters on the Spiritual Journey&quot\;<br />\n<br />\nJoin our diverse faith leaders as they speak about defining moments in their spiritual lives and have the opportunity to share the same with community members.<br />\n<br />\nWednesdays at Noon\, Belfast United Methodist Church\, 23 Mill Lane\, Belfast<br />\n<br />\nBring your own bag lunch - coffee &amp\; dessert provided - All are welcome!<br />\n<br />\nMarch 12th - Rev. Seongmoon Ahn<br />\nMarch 19th - Rev. Loren McGrail<br />\nMarch 26th - Rev. Bob Johansen<br />\nApril 2nd - Rev. Jean Ashland<br />\nApril 9th - Rev. Dr. Kate Winters<br />\n<br />\n&nbsp\;
LOCATION:
UID:e.3098.10160
SEQUENCE:3
DTSTAMP:20260422T191335Z
URL:https://business.belfastmaine.org/events/details/lenten-luncheon-series-encounters-on-the-spiritual-journey-03-19-2025-10160
END:VEVENT

END:VCALENDAR
