BEGIN:VCALENDAR
VERSION:2.0
PRODID:-//ChamberMaster//Event Calendar 2.0//EN
METHOD:PUBLISH
X-PUBLISHED-TTL:P3D
REFRESH-INTERVAL:P3D
CALSCALE:GREGORIAN
BEGIN:VEVENT
DTSTART:20260807T140000Z
DTEND:20260807T210000Z
X-MICROSOFT-CDO-ALLDAYEVENT:FALSE
SUMMARY:Maine Boat & Home Show
DESCRIPTION:The Maine Boat & Home Show features boats in the water\, boats on land\, marine gear vendors\, fine furniture and home wares\, arts\, architecture\, live music\, and delicious food. This event is the largest in-the-water boat show north of Newport.  Admission: $15 adult ticket (12 and under always get in free). Gates open at 10 a.m. daily\, no pets allowed.  \n\nTickets available at: https://bit.ly/mbhshowtix2026\n\nFor more information\, call 800-565-4951 or visit http://maineboats.com/boatshow.
X-ALT-DESC;FMTTYPE=text/html:<span style="color:#222222"><span style="font-family:times">The Maine Boat &amp\; Home Show features boats in the water\, boats on land\, marine gear vendors\, fine furniture and home wares\, arts\, architecture\, live music\, and delicious food</span></span><span style="color:black"><span style="font-family:times">. </span></span><span style="color:#222222"><span style="font-family:times">This event is the largest in-the-water boat show north of Newport.</span></span>&nbsp\;&nbsp\;<span style="color:#222222"><span style="font-family:times">Admission: $15 adult ticket (12 and under always get in free). Gates open at 10 a.m. daily\, <em>no pets allowed</em>.&nbsp\;&nbsp\;</span></span><br />\n<span style="color:#222222"><span style="font-family:times">Tickets available at:</span></span> <a href="https://bit.ly/mbhshowtix2026" target="_blank"><span style="font-family:times new roman\,serif">https://bit.ly/mbhshowtix2026</span></a><br />\n<span style="color:#222222"><span style="font-family:times">For more information\, call 800-565-4951 or visit </span></span><a href="http://maineboats.com/boatshow"><span style="font-family:times">http://maineboats.com/boatshow</span></a><span style="color:#222222"><span style="font-family:times">. </span></span><br />\n&nbsp\;
LOCATION:Rockland Harbor Park 1 Pleasant St Rockland\, ME 04841
UID:e.3098.12326
SEQUENCE:3
DTSTAMP:20260419T130523Z
URL:https://business.belfastmaine.org/events/details/maine-boat-home-show-08-07-2026-12326
END:VEVENT

END:VCALENDAR
