BEGIN:VCALENDAR
VERSION:2.0
PRODID:-//ChamberMaster//Event Calendar 2.0//EN
METHOD:PUBLISH
X-PUBLISHED-TTL:P3D
REFRESH-INTERVAL:P3D
CALSCALE:GREGORIAN
BEGIN:VEVENT
DTSTART:20250518T140000Z
DTEND:20250518T170000Z
X-MICROSOFT-CDO-ALLDAYEVENT:FALSE
SUMMARY:Marsh River Cooperative Plant Swap
DESCRIPTION:First\, a big thank-you to all the members who joined us for the co-op cleanup two weekends ago! Your hard work truly made a difference\; the space is looking beautiful and ready for a busy season of community events\, starting with \n\n\n\nOur Annual Plant Swap! \n\nJoin us on Sunday\, May 18\, from 10:00 AM to 1:00 PM for a free community plant swap. \n\nWhether you're a longtime gardener or just getting started\, the swap is a fun way to share your extra veggies\, herbs\, perennials\, or even houseplants and grow your plant collection. Not only that\, it's a great way to connect with fellow plant lovers.\n\n\n\nHere's how it works: you bring a plant and you can take a plant home!\n\nPlants commonly seen at the swap: Iris\, agastache\, feverfew\, echinacea\, violets\, day lilies\, monarda\, hosta\, and many vegetable seedlings and herbs. \n\nKindly note: We ask that participants do not bring invasive species or plants that spread aggressively by runner roots. Some examples to avoid include mint\, bishop's weed/ground elder\, and creeping bellflower. These plants are known to be problematic in Maine gardens.\n\n\n\nPlease help spread the word\; this event is free and open to all!\n\n\n\nWarmest regards\, \n\nMarsh River Cooperative Board
X-ALT-DESC;FMTTYPE=text/html:<p style="margin: 10px 0px\; padding: 0px\; color: rgb(80\, 80\, 80)\; font-family: Helvetica\; font-size: 16px\; line-height: 24px\; background-color: rgb(239\, 239\, 239)\;"><span data-olk-copy-source="MessageBody" style="border: 0px\; font-style: inherit\; font-variant: inherit\; font-weight: inherit\; font-stretch: inherit\; font-size: 14px\; line-height: inherit\; font-family: inherit\; font-optical-sizing: inherit\; font-size-adjust: inherit\; font-kerning: inherit\; font-feature-settings: inherit\; font-variation-settings: inherit\; margin: 0px\; padding: 0px\; vertical-align: baseline\; color: inherit\;">First\, a big thank-you to all the members who joined us for the co-op cleanup two weekends ago! Your hard work truly made a difference\; the space is looking beautiful and ready for a busy season of community events\, starting with&hellip\;<br />\n<br />\n<strong>Our Annual Plant Swap!&nbsp\;</strong></span></p>\n\n<p dir="ltr" style="margin: 10px 0px\; padding: 0px\; color: rgb(80\, 80\, 80)\; font-family: Helvetica\; font-size: 16px\; line-height: 24px\; background-color: rgb(239\, 239\, 239)\;"><span style="border: 0px\; font-style: inherit\; font-variant: inherit\; font-weight: inherit\; font-stretch: inherit\; font-size: 14px\; line-height: inherit\; font-family: inherit\; font-optical-sizing: inherit\; font-size-adjust: inherit\; font-kerning: inherit\; font-feature-settings: inherit\; font-variation-settings: inherit\; margin: 0px\; padding: 0px\; vertical-align: baseline\; color: inherit\;">Join us on Sunday\, May 18\, from 10:00 AM to 1:00 PM for a free community plant swap.&nbsp\;</span></p>\n\n<p dir="ltr" style="margin: 10px 0px\; padding: 0px\; color: rgb(80\, 80\, 80)\; font-family: Helvetica\; font-size: 16px\; line-height: 24px\; background-color: rgb(239\, 239\, 239)\;"><span style="border: 0px\; font-style: inherit\; font-variant: inherit\; font-weight: inherit\; font-stretch: inherit\; font-size: 14px\; line-height: inherit\; font-family: inherit\; font-optical-sizing: inherit\; font-size-adjust: inherit\; font-kerning: inherit\; font-feature-settings: inherit\; font-variation-settings: inherit\; margin: 0px\; padding: 0px\; vertical-align: baseline\; color: inherit\;">Whether you&rsquo\;re a longtime gardener or just getting started\, the swap is a fun way to share your extra veggies\, herbs\, perennials\, or even houseplants and grow your plant collection. Not only that\, it&rsquo\;s a great way to connect with fellow plant lovers.<br />\n<br />\n<strong><em>Here&rsquo\;s how it works:</em>&nbsp\;</strong>you bring a plant and you can take a plant home!</span></p>\n\n<p dir="ltr" style="margin: 10px 0px\; padding: 0px\; color: rgb(80\, 80\, 80)\; font-family: Helvetica\; font-size: 16px\; line-height: 24px\; background-color: rgb(239\, 239\, 239)\;"><span style="border: 0px\; font-style: inherit\; font-variant: inherit\; font-weight: inherit\; font-stretch: inherit\; font-size: 14px\; line-height: inherit\; font-family: inherit\; font-optical-sizing: inherit\; font-size-adjust: inherit\; font-kerning: inherit\; font-feature-settings: inherit\; font-variation-settings: inherit\; margin: 0px\; padding: 0px\; vertical-align: baseline\; color: inherit\;">Plants commonly seen at the swap: Iris\, agastache\, feverfew\, echinacea\, violets\, day lilies\, monarda\, hosta\, and many vegetable seedlings and herbs.&nbsp\;</span></p>\n\n<p dir="ltr" style="margin: 10px 0px\; padding: 0px\; color: rgb(80\, 80\, 80)\; font-family: Helvetica\; font-size: 16px\; line-height: 24px\; background-color: rgb(239\, 239\, 239)\;"><span style="border: 0px\; font-style: inherit\; font-variant: inherit\; font-weight: inherit\; font-stretch: inherit\; font-size: 14px\; line-height: inherit\; font-family: inherit\; font-optical-sizing: inherit\; font-size-adjust: inherit\; font-kerning: inherit\; font-feature-settings: inherit\; font-variation-settings: inherit\; margin: 0px\; padding: 0px\; vertical-align: baseline\; color: inherit\;"><strong><em>Kindly note:</em></strong>&nbsp\;We ask that participants&nbsp\;<strong>do not bring invasive species</strong>&nbsp\;or plants that spread aggressively by runner roots. Some examples to avoid include mint\, bishop&rsquo\;s weed/ground elder\, and creeping bellflower. These plants are known to be problematic in Maine gardens.</span></p>\n\n<p dir="ltr" style="margin: 10px 0px\; padding: 0px\; color: rgb(80\, 80\, 80)\; font-family: Helvetica\; font-size: 16px\; line-height: 24px\; background-color: rgb(239\, 239\, 239)\;"><br />\n<span style="border: 0px\; font-style: inherit\; font-variant: inherit\; font-weight: inherit\; font-stretch: inherit\; font-size: 14px\; line-height: inherit\; font-family: inherit\; font-optical-sizing: inherit\; font-size-adjust: inherit\; font-kerning: inherit\; font-feature-settings: inherit\; font-variation-settings: inherit\; margin: 0px\; padding: 0px\; vertical-align: baseline\; color: inherit\;">Please help spread the word\; this event is free and open to all!<br />\n<br />\nWarmest regards\,&nbsp\;<br />\nMarsh River Cooperative Board</span></p>\n
LOCATION:5 Veterans Hwy. Brooks
UID:e.3098.10691
SEQUENCE:3
DTSTAMP:20260426T014922Z
URL:https://business.belfastmaine.org/events/details/marsh-river-cooperative-plant-swap-10691
END:VEVENT

END:VCALENDAR
