BEGIN:VCALENDAR
VERSION:2.0
PRODID:-//ChamberMaster//Event Calendar 2.0//EN
METHOD:PUBLISH
X-PUBLISHED-TTL:P3D
REFRESH-INTERVAL:P3D
CALSCALE:GREGORIAN
BEGIN:VEVENT
DTSTART:20260513T230000Z
DTEND:20260514T003000Z
X-MICROSOFT-CDO-ALLDAYEVENT:FALSE
SUMMARY:Mia Bertelli and Friends: Bagaduce Music Second Wednesday House Concert Series
DESCRIPTION:Bagaduce Music presents vocalist Mia Bertelli as part of its Second Wednesday House Party series. Known for her sensitive delivery and genre-spanning approach\, Bertelli blends influences from world singing traditions\, Irish and Appalachian balladry\, Scandinavian music\, and elements of pop\, jazz\, and soul. Her performances move fluidly between styles\, offering a dynamic and intimate musical experience.\n\nFor this special concert\, Bertelli will be joined by a rotating group of collaborators\, creating a vibrant mix of sounds and instruments in a relaxed\, house-concert setting.\n\nPre-Concert Offerings:\n\nSoups\, snacks\, and chai available from 6:00 7:15 PM (Conscious Caf ).\n\nOptional guided nature walks with Native Gardens of Blue Hill exploring spring plantings on campus.
X-ALT-DESC;FMTTYPE=text/html:<p><span style="background-color:transparent\; color:#000000\; font-family:arial\,sans-serif\; font-size:11pt">Bagaduce Music presents vocalist </span><strong>Mia Bertelli</strong><span style="background-color:transparent\; color:#000000\; font-family:arial\,sans-serif\; font-size:11pt"> as part of its Second Wednesday House Party series. Known for her sensitive delivery and genre-spanning approach\, Bertelli blends influences from world singing traditions\, Irish and Appalachian balladry\, Scandinavian music\, and elements of pop\, jazz\, and soul. Her performances move fluidly between styles\, offering a dynamic and intimate musical experience.</span></p>\n\n<p><span style="background-color:transparent\; color:#000000\; font-family:arial\,sans-serif\; font-size:11pt">For this special concert\, Bertelli will be joined by a rotating group of collaborators\, creating a vibrant mix of sounds and instruments in a relaxed\, house-concert setting.</span></p>\n\n<p><strong>Pre-Concert Offerings:</strong><br />\n<span style="background-color:transparent\; color:#000000\; font-family:arial\,sans-serif\; font-size:11pt">Soups\, snacks\, and chai available from 6:00&ndash\;7:15 PM (Conscious Caf&eacute\;).</span><br />\n<em>Optional guided nature walks with Native Gardens of Blue Hill exploring spring plantings on campus.</em></p>\n\n<p>&nbsp\;</p>\n
LOCATION:Bagaduce Music Performance Hall 49 South Street Blue Hill\, ME
UID:e.3098.12776
SEQUENCE:3
DTSTAMP:20260424T171124Z
URL:https://business.belfastmaine.org/events/details/mia-bertelli-and-friends-bagaduce-music-second-wednesday-house-concert-series-12776
END:VEVENT

END:VCALENDAR
