BEGIN:VCALENDAR
VERSION:2.0
PRODID:-//ChamberMaster//Event Calendar 2.0//EN
METHOD:PUBLISH
X-PUBLISHED-TTL:P3D
REFRESH-INTERVAL:P3D
CALSCALE:GREGORIAN
BEGIN:VEVENT
DTSTART:20250426T130000Z
DTEND:20250426T170000Z
X-MICROSOFT-CDO-ALLDAYEVENT:FALSE
SUMMARY:Mother's Day Jewelry Sale & Complimentary Tea
DESCRIPTION:You're invited to celebrate a Mother's Day Jewelry Sale & Complimentary Tea at the Belfast United Methodist Church on Saturday\, April 26th from 9:00am - 1:00pm.\n\n\n\nThere will be sterling silver and costume jewelry\, purses and scarves\, and plenty of tea!\n\n\n\nFor more details\, call Evelyn at 207-338-5575
X-ALT-DESC;FMTTYPE=text/html:You&#39\;re invited to celebrate a Mother&#39\;s Day Jewelry Sale &amp\; Complimentary Tea at the Belfast United Methodist Church on Saturday\, April 26th from 9:00am - 1:00pm.<br />\n<br />\nThere will be sterling silver and costume jewelry\, purses and scarves\, and plenty of tea!<br />\n<br />\nFor more details\, call Evelyn at 207-338-5575
LOCATION:Belfast United Methodist Church\, 23 Mill Lane\, E. Belfast
UID:e.3098.10668
SEQUENCE:3
DTSTAMP:20260422T204650Z
URL:https://business.belfastmaine.org/events/details/mother-s-day-jewelry-sale-complimentary-tea-10668
END:VEVENT

END:VCALENDAR
