BEGIN:VCALENDAR
VERSION:2.0
PRODID:-//ChamberMaster//Event Calendar 2.0//EN
METHOD:PUBLISH
X-PUBLISHED-TTL:P3D
REFRESH-INTERVAL:P3D
CALSCALE:GREGORIAN
BEGIN:VEVENT
DTSTART:20200509T010000Z
DTEND:20200509T023000Z
X-MICROSOFT-CDO-ALLDAYEVENT:FALSE
SUMMARY:Observatory Moon Viewing 360° at 420 Feet
DESCRIPTION:View the moon rise at 420 feet\, atop the Penobscot Narrows Bridge Observatory. An extraordinarily unique after hours experience with panoramic 360 degree views of coastal Maine and the bridge bathed in moonlight. Tickets available on FB or @ www.fortknoxmaine.com also the evening of the event "at the gate". Weather Dependent.
X-ALT-DESC;FMTTYPE=text/html:View the moon rise at 420 feet\, atop the Penobscot Narrows Bridge Observatory. An extraordinarily unique after hours experience with panoramic 360 degree views of coastal Maine and the bridge bathed in moonlight. Tickets available on FB or @ www.fortknoxmaine.com also the evening of the event &ldquo\;at the gate&rdquo\;. Weather Dependent.
LOCATION:Penobscot Narrows Observatory at Fort Knox State Historic Site 740 Fort Knox Road Prospect\, Maine 04981
UID:e.3098.3098
SEQUENCE:3
DTSTAMP:20260422T174125Z
URL:https://business.belfastmaine.org/events/details/observatory-moon-viewing-360-at-420-feet-05-08-2020-3098
END:VEVENT

END:VCALENDAR
