BEGIN:VCALENDAR
VERSION:2.0
PRODID:-//ChamberMaster//Event Calendar 2.0//EN
METHOD:PUBLISH
X-PUBLISHED-TTL:P3D
REFRESH-INTERVAL:P3D
CALSCALE:GREGORIAN
BEGIN:VEVENT
DTSTART:20200916T220000Z
DTEND:20200917T010000Z
X-MICROSOFT-CDO-ALLDAYEVENT:FALSE
SUMMARY:Online Public Speaking
DESCRIPTION:Virtual presentations have become important in successfully conducting business and keeping in touch. There are a variety of options and recommendations of how to get the most of their use. Learn practical ways to ensure group interaction and engagement of your audience\, leading to positive results. Presenter Tom Dowd (also known as "Transformation Tom"!) received a communications degree from the University of Delaware. He is a prize-winning speaker\, and an award-winning and Amazon best-selling author\, trainer and coach.
X-ALT-DESC;FMTTYPE=text/html:Virtual presentations have become important in successfully conducting business and keeping in touch. There are a variety of options and recommendations of how to get the most of their use. Learn practical ways to ensure group interaction and engagement of your audience\, leading to positive results. Presenter Tom Dowd (also known as &ldquo\;Transformation Tom&rdquo\;!) received a communications degree from the University of Delaware. He is a prize-winning speaker\, and an award-winning and Amazon best-selling author\, trainer and coach.
LOCATION:Online via Zoom
UID:e.3098.3383
SEQUENCE:3
DTSTAMP:20260422T104340Z
URL:https://business.belfastmaine.org/events/details/online-public-speaking-09-16-2020-3383
END:VEVENT

END:VCALENDAR
