BEGIN:VCALENDAR
VERSION:2.0
PRODID:-//ChamberMaster//Event Calendar 2.0//EN
METHOD:PUBLISH
X-PUBLISHED-TTL:P3D
REFRESH-INTERVAL:P3D
CALSCALE:GREGORIAN
BEGIN:VEVENT
DTSTART:20200824T130000Z
DTEND:20200826T153000Z
X-MICROSOFT-CDO-ALLDAYEVENT:FALSE
SUMMARY:(Online) Teaching from the Heart
DESCRIPTION:(Online) Teaching from the Heart: Learn how to manage your classroom/learning environment with a practical\, simple curriculum based on nonviolent communication expert Gina Simm's book Heart to Heart: Three Systems for Staying Connected (A Manual for Parents and Teachers). Through participating in this course\, you'll learn how to use practical systems to maintain the heart-to-heart connections that support children's ability to self-regulate and improve their emotional intelligence.
X-ALT-DESC;FMTTYPE=text/html:(Online) Teaching from the Heart: Learn how to manage your classroom/learning environment with a practical\, simple curriculum based on nonviolent communication expert Gina Simm&rsquo\;s book Heart to Heart: Three Systems for Staying Connected (A Manual for Parents and Teachers). Through participating in this course\, you&rsquo\;ll learn how to use practical systems to maintain the heart-to-heart connections that support children&rsquo\;s ability to self-regulate and improve their emotional intelligence.
LOCATION:NOTE: Due to physical/social distancing\, this interactive program is being offered online via Zoom.
UID:e.3098.3363
SEQUENCE:3
DTSTAMP:20260421T083252Z
URL:https://business.belfastmaine.org/events/details/online-teaching-from-the-heart-3363
END:VEVENT

END:VCALENDAR
