BEGIN:VCALENDAR
VERSION:2.0
PRODID:-//ChamberMaster//Event Calendar 2.0//EN
METHOD:PUBLISH
X-PUBLISHED-TTL:P3D
REFRESH-INTERVAL:P3D
CALSCALE:GREGORIAN
BEGIN:VEVENT
DTSTART:20200710T160000Z
DTEND:20200710T170000Z
X-MICROSOFT-CDO-ALLDAYEVENT:FALSE
SUMMARY:Peek into Paintings
DESCRIPTION:Join us at Facebook Live as Museum Educator Sarah Cole uses high resolution images of our paintings to zoom in on all the details. See our paintings as never before! Learn about the artist and the history and geography behind the subject of the painting. Post your questions and comments during the live session.\n\n\n\nHelp support programs like this by becoming a member or making a donation.\n\n\n\nMembership: https://penobscotmarinemuseum.org/enjoy-the-benefits-of-membership/\n\nDonate here: https://penobscotmarinemuseum.org/donate-to-penobscot-marine-museum/
X-ALT-DESC;FMTTYPE=text/html:<span style="color: rgb(29\, 33\, 41)\; font-family: Helvetica\, Arial\, sans-serif\; font-size: 14px\; white-space: pre-wrap\;">Join us at Facebook Live as Museum Educator Sarah Cole uses high resolution images of our paintings to zoom in on all the details. See our paintings as never before! Learn about the artist and the history and geography behind the subject of the painting. Post your questions and comments during the live session.</span><br style="color: rgb(29\, 33\, 41)\; font-family: Helvetica\, Arial\, sans-serif\; font-size: 14px\; white-space: pre-wrap\;" />\n<br style="color: rgb(29\, 33\, 41)\; font-family: Helvetica\, Arial\, sans-serif\; font-size: 14px\; white-space: pre-wrap\;" />\n<span style="color: rgb(29\, 33\, 41)\; font-family: Helvetica\, Arial\, sans-serif\; font-size: 14px\; white-space: pre-wrap\;">Help support programs like this by becoming a member or making a donation.</span><br style="color: rgb(29\, 33\, 41)\; font-family: Helvetica\, Arial\, sans-serif\; font-size: 14px\; white-space: pre-wrap\;" />\n<br style="color: rgb(29\, 33\, 41)\; font-family: Helvetica\, Arial\, sans-serif\; font-size: 14px\; white-space: pre-wrap\;" />\n<span style="color: rgb(29\, 33\, 41)\; font-family: Helvetica\, Arial\, sans-serif\; font-size: 14px\; white-space: pre-wrap\;">Membership: </span><a data-lynx-mode="hover" data-lynx-uri="https://l.facebook.com/l.php?u=https%3A%2F%2Fpenobscotmarinemuseum.org%2Fenjoy-the-benefits-of-membership%2F%3Ffbclid%3DIwAR0XhZ0B0p7bb98rAL-86RTIECJxZY-8IxYbo6AUlUlyzGOo6RnEh5gevEs&amp\;h=AT08T1-zg2-5kOhEcKF456abu0p4aXAXUaCROJv_XyqtsAlugIfX5iLqqFe0Js7x6DrMqQ3jWvPlQOUkqFA7J3Pt8vh7-HqkLjidPB1B2zGPt4WYmAEBUGsB5Ym5fVsp_LGJPm-XSWu6nZFLM0Sx" href="https://penobscotmarinemuseum.org/enjoy-the-benefits-of-membership/?fbclid=IwAR0XhZ0B0p7bb98rAL-86RTIECJxZY-8IxYbo6AUlUlyzGOo6RnEh5gevEs" rel="nofollow noopener" style="color: rgb(56\, 88\, 152)\; cursor: pointer\; text-decoration-line: none\; font-family: Helvetica\, Arial\, sans-serif\; font-size: 14px\; white-space: pre-wrap\;" target="_blank">https://penobscotmarinemuseum.org/enjoy-the-benefits-of-membership/</a><br style="color: rgb(29\, 33\, 41)\; font-family: Helvetica\, Arial\, sans-serif\; font-size: 14px\; white-space: pre-wrap\;" />\n<span style="color: rgb(29\, 33\, 41)\; font-family: Helvetica\, Arial\, sans-serif\; font-size: 14px\; white-space: pre-wrap\;">Donate here: </span><a data-lynx-mode="hover" data-lynx-uri="https://l.facebook.com/l.php?u=https%3A%2F%2Fpenobscotmarinemuseum.org%2Fdonate-to-penobscot-marine-museum%2F%3Ffbclid%3DIwAR1zrtEnoM1-i3YdxxOtCQp0j4FXjEuvosmrlf2c-19vpiBdur1w7s__w60&amp\;h=AT1zclD_HL70J2UcDGLIewIMPLDOXkv4dPZBItEq7QQfGZGnX53XJxwYfdWQMXiuW6OHCxVu6V8OxCsh-IJPvc-XnaxlAup1phMREJ49eUep_BkzlsyDcwAK7v1Vz-tJh1JytMcMVu7ksoYRop12" href="https://penobscotmarinemuseum.org/donate-to-penobscot-marine-museum/?fbclid=IwAR1zrtEnoM1-i3YdxxOtCQp0j4FXjEuvosmrlf2c-19vpiBdur1w7s__w60" rel="nofollow noopener" style="color: rgb(56\, 88\, 152)\; cursor: pointer\; text-decoration-line: none\; font-family: Helvetica\, Arial\, sans-serif\; font-size: 14px\; white-space: pre-wrap\;" target="_blank">https://penobscotmarinemuseum.org/donate-to-penobscot-marine-museum/</a>
LOCATION:
UID:e.3098.3319
SEQUENCE:3
DTSTAMP:20260422T141123Z
URL:https://business.belfastmaine.org/events/details/peek-into-paintings-07-10-2020-3319
END:VEVENT

END:VCALENDAR
