BEGIN:VCALENDAR
VERSION:2.0
PRODID:-//ChamberMaster//Event Calendar 2.0//EN
METHOD:PUBLISH
X-PUBLISHED-TTL:P3D
REFRESH-INTERVAL:P3D
CALSCALE:GREGORIAN
BEGIN:VEVENT
DTSTART:20250304T180000Z
DTEND:20250304T190000Z
X-MICROSOFT-CDO-ALLDAYEVENT:FALSE
SUMMARY:Penobscot Shores - The 'Point' of Acupuncture Presentation
DESCRIPTION:STILLPOINT | 5 Element Acupuncture presents...\n\n\n\nTHE "POINT" OF ACUPUNCTURE\n\n\n\n5 Element acupuncture treats the root cause of disease and focuses on diagnosing a person's causative factor the element which is most aligned with a person's emotional and physical orientation. This element may be a person's weak link\; but it is often also their strength!\n\n\n\nCOME LEARN HOW THAT ELEMENT IS SUPPORTED THROUGH ACUPUNCTURE\, AND HOW THE FUNCTIONING OF THE BODY/MIND/SPIRIT IS ENHANCED.\n\n\n\nTUESDAY\, MARCH 4TH\, 1:00 PM\n\n\n\nPLEASE CALL 207-338-2332 TO REGISTER!\n\n\n\nREFRESHMENTS WILL BE PROVIDED!
X-ALT-DESC;FMTTYPE=text/html:STILLPOINT | 5 Element Acupuncture presents...<br />\n<br />\nTHE &quot\;POINT&quot\; OF ACUPUNCTURE<br />\n<br />\n5 Element acupuncture treats the root cause of disease and focuses on diagnosing a person&#39\;s causative factor the element which is most aligned with a person&#39\;s emotional and physical orientation. This element may be a person&#39\;s weak link\; but it is often also their strength!<br />\n<br />\nCOME LEARN HOW THAT ELEMENT IS SUPPORTED THROUGH ACUPUNCTURE\, AND HOW THE FUNCTIONING OF THE BODY/MIND/SPIRIT IS ENHANCED.<br />\n<br />\nTUESDAY\, MARCH 4TH\, 1:00 PM<br />\n<br />\nPLEASE CALL 207-338-2332 TO REGISTER!<br />\n<br />\nREFRESHMENTS WILL BE PROVIDED!
LOCATION:Penobscot Shores\, 10 Shoreland Drive\, Belfast
UID:e.3098.10166
SEQUENCE:3
DTSTAMP:20260422T191255Z
URL:https://business.belfastmaine.org/events/details/penobscot-shores-the-point-of-acupuncture-presentation-10166
END:VEVENT

END:VCALENDAR
