BEGIN:VCALENDAR
VERSION:2.0
PRODID:-//ChamberMaster//Event Calendar 2.0//EN
METHOD:PUBLISH
X-PUBLISHED-TTL:P3D
REFRESH-INTERVAL:P3D
CALSCALE:GREGORIAN
BEGIN:VEVENT
DTSTART:20200709T220000Z
DTEND:20200709T230000Z
X-MICROSOFT-CDO-ALLDAYEVENT:FALSE
SUMMARY:Pirates On The Maine Coast
DESCRIPTION:Maine is known for a lot of things\, both good and bad\, but piracy is not necessarily one of them\, not when the Caribbean featured such temptations as gold and rum. But that does not mean that Maine did not see its share of piracy. Award-winning author\, and occasional pirate\, James L. Nelson will present a talk on Piracy on the Coast of Maine\, a look at our very own buccaneers Down East.\n\n\n\nJim Nelson was born and raised in Maine and graduated from UCLA's film school. Finding that despite being in Southern California\, it was a damp\, drizzly November in his soul\, Jim took the cure Melville recommended and decided to sail about a little and see the watery part of the world. For six years he worked on board traditional sailing ships before launching a writing career as in 1994. He has since written more than twenty-five works of maritime fiction and history. He is the winner or the American Library Association/William Young Boyd Award and the Naval Order's Samuel Eliot Morison Award. Nelson has lectured all over the country and appeared on the Discovery Channel\, History Channel\, National Geographic and BookTV. He currently lives in Harpswell\, Maine\, with his former shipmate\, now wife\, Lisa and two of their four children.\n\n\n\nRegister: https://us02web.zoom.us/meeting/register/tZcqcOGqpzstGtYi4D-7_jEgs8d-BSvOKty8\n\n\n\nHelp support programs like this by becoming a member or making a donation.\n\n\n\nMembership: https://penobscotmarinemuseum.org/enjoy-the-benefits-of-membership/\n\nDonations: https://penobscotmarinemuseum.org/donate-to-penobscot-marine-museum/
X-ALT-DESC;FMTTYPE=text/html:<span style="color: rgb(29\, 33\, 41)\; font-family: Helvetica\, Arial\, sans-serif\; font-size: 14px\; white-space: pre-wrap\;">Maine is known for a lot of things\, both good and bad\, but piracy is not necessarily one of them\, not when the Caribbean featured such temptations as gold and rum. But that does not mean that Maine did not see its share of piracy. Award-winning author\, and occasional pirate\, James L. Nelson will present a talk on Piracy on the Coast of Maine\, a look at our very own buccaneers Down East.</span><br style="color: rgb(29\, 33\, 41)\; font-family: Helvetica\, Arial\, sans-serif\; font-size: 14px\; white-space: pre-wrap\;" />\n<br style="color: rgb(29\, 33\, 41)\; font-family: Helvetica\, Arial\, sans-serif\; font-size: 14px\; white-space: pre-wrap\;" />\n<span style="color: rgb(29\, 33\, 41)\; font-family: Helvetica\, Arial\, sans-serif\; font-size: 14px\; white-space: pre-wrap\;">Jim Nelson was born and raised in Maine and graduated from UCLA&rsquo\;s film school. Finding that despite being in Southern California\, it was a damp\, drizzly November in his soul\, Jim took the cure Melville recommended and decided to sail about a little and see the watery part of the world. For six years he worked on board traditional sailing ships before launching a writing career as in 1994. He has since written more than twenty-five works of maritime fiction and history. He is the winner or the American Library Association/William Young Boyd Award and the Naval Order&rsquo\;s Samuel Eliot Morison Award. Nelson has lectured all over the country and appeared on the Discovery Channel\, History Channel\, National Geographic and BookTV. He currently lives in Harpswell\, Maine\, with his former shipmate\, now wife\, Lisa and two of their four children.</span><br style="color: rgb(29\, 33\, 41)\; font-family: Helvetica\, Arial\, sans-serif\; font-size: 14px\; white-space: pre-wrap\;" />\n<br style="color: rgb(29\, 33\, 41)\; font-family: Helvetica\, Arial\, sans-serif\; font-size: 14px\; white-space: pre-wrap\;" />\n<span style="color: rgb(29\, 33\, 41)\; font-family: Helvetica\, Arial\, sans-serif\; font-size: 14px\; white-space: pre-wrap\;">Register: </span><a data-lynx-mode="hover" data-lynx-uri="https://l.facebook.com/l.php?u=https%3A%2F%2Fus02web.zoom.us%2Fmeeting%2Fregister%2FtZcqcOGqpzstGtYi4D-7_jEgs8d-BSvOKty8%3Ffbclid%3DIwAR0AYxZQQIVFHiUrwxadbeDtDuGJyOIyOYBolTN1-3spfxWAsRhVU1G99Gg&amp\;h=AT1WaInGvTfSF_L1MejwEB77Tak6bhwelShTrY0Dp-Vw6PcxVPXpQKymT6nSol4Z4o75-CzK_hPBt1r4vT6fAenh-i9ebUae0CWZSrMUePkbLxGWlmWJEJe48L2PYJIBwea5HzQyvx-W1KBkaPzN" href="https://us02web.zoom.us/meeting/register/tZcqcOGqpzstGtYi4D-7_jEgs8d-BSvOKty8?fbclid=IwAR0AYxZQQIVFHiUrwxadbeDtDuGJyOIyOYBolTN1-3spfxWAsRhVU1G99Gg" rel="nofollow noopener" style="color: rgb(56\, 88\, 152)\; cursor: pointer\; text-decoration-line: none\; font-family: Helvetica\, Arial\, sans-serif\; font-size: 14px\; white-space: pre-wrap\;" target="_blank">https://us02web.zoom.us/meeting/register/tZcqcOGqpzstGtYi4D-7_jEgs8d-BSvOKty8</a><br style="color: rgb(29\, 33\, 41)\; font-family: Helvetica\, Arial\, sans-serif\; font-size: 14px\; white-space: pre-wrap\;" />\n<br style="color: rgb(29\, 33\, 41)\; font-family: Helvetica\, Arial\, sans-serif\; font-size: 14px\; white-space: pre-wrap\;" />\n<span style="color: rgb(29\, 33\, 41)\; font-family: Helvetica\, Arial\, sans-serif\; font-size: 14px\; white-space: pre-wrap\;">Help support programs like this by becoming a member or making a donation.</span><br style="color: rgb(29\, 33\, 41)\; font-family: Helvetica\, Arial\, sans-serif\; font-size: 14px\; white-space: pre-wrap\;" />\n<br style="color: rgb(29\, 33\, 41)\; font-family: Helvetica\, Arial\, sans-serif\; font-size: 14px\; white-space: pre-wrap\;" />\n<span style="color: rgb(29\, 33\, 41)\; font-family: Helvetica\, Arial\, sans-serif\; font-size: 14px\; white-space: pre-wrap\;">Membership: </span><a data-lynx-mode="hover" data-lynx-uri="https://l.facebook.com/l.php?u=https%3A%2F%2Fpenobscotmarinemuseum.org%2Fenjoy-the-benefits-of-membership%2F%3Ffbclid%3DIwAR01tkTbcjb66Kv_oRr4ISbwO79L_Hhkmy9t8MjSOyM1FvsKg7Wqnfmanpk&amp\;h=AT3ZVHA37Dwsn0br9573sJJupBQyCby7nZPuMkmm9Jr135I6Aie0bobxI5oiY-MlbdP4T50HG6s87nVj-goeAaWPxWmQij5vvF-mAN_jNRiA0ATrcuwjE6T8QMo94qwkelSQ5BbQWl6Wc_Not8N_" href="https://penobscotmarinemuseum.org/enjoy-the-benefits-of-membership/?fbclid=IwAR01tkTbcjb66Kv_oRr4ISbwO79L_Hhkmy9t8MjSOyM1FvsKg7Wqnfmanpk" rel="nofollow noopener" style="color: rgb(56\, 88\, 152)\; cursor: pointer\; text-decoration-line: none\; font-family: Helvetica\, Arial\, sans-serif\; font-size: 14px\; white-space: pre-wrap\;" target="_blank">https://penobscotmarinemuseum.org/enjoy-the-benefits-of-membership/</a><br style="color: rgb(29\, 33\, 41)\; font-family: Helvetica\, Arial\, sans-serif\; font-size: 14px\; white-space: pre-wrap\;" />\n<span style="color: rgb(29\, 33\, 41)\; font-family: Helvetica\, Arial\, sans-serif\; font-size: 14px\; white-space: pre-wrap\;">Donations: </span><a data-lynx-mode="hover" data-lynx-uri="https://l.facebook.com/l.php?u=https%3A%2F%2Fpenobscotmarinemuseum.org%2Fdonate-to-penobscot-marine-museum%2F%3Ffbclid%3DIwAR0kj-O-2W4Q_iNVXhbxVkvqYndYKn_4yFf1TPyUKu4puz7BKu2Xa_O--JE&amp\;h=AT1tffUWOkmVVGUOpbDeT3K2AWSYOk3U6cd8fIAYxyPkOR3HrdjYBdspkF4kBCZkp_GjqyfN1G91nnY6CPUvosaZqZ40RDY3peY5vL8JxnPpMQlEnQLQjW7qFiUiarc6KFve6lqxyXySg8bNBapX" href="https://penobscotmarinemuseum.org/donate-to-penobscot-marine-museum/?fbclid=IwAR0kj-O-2W4Q_iNVXhbxVkvqYndYKn_4yFf1TPyUKu4puz7BKu2Xa_O--JE" rel="nofollow noopener" style="color: rgb(56\, 88\, 152)\; cursor: pointer\; text-decoration-line: none\; font-family: Helvetica\, Arial\, sans-serif\; font-size: 14px\; white-space: pre-wrap\;" target="_blank">https://penobscotmarinemuseum.org/donate-to-penobscot-marine-museum/</a>
LOCATION:
UID:e.3098.3317
SEQUENCE:3
DTSTAMP:20260422T140529Z
URL:https://business.belfastmaine.org/events/details/pirates-on-the-maine-coast-3317
END:VEVENT

END:VCALENDAR
