BEGIN:VCALENDAR
VERSION:2.0
PRODID:-//ChamberMaster//Event Calendar 2.0//EN
METHOD:PUBLISH
X-PUBLISHED-TTL:P3D
REFRESH-INTERVAL:P3D
CALSCALE:GREGORIAN
BEGIN:VEVENT
DTSTART:20200707T160000Z
DTEND:20200707T170000Z
X-MICROSOFT-CDO-ALLDAYEVENT:FALSE
SUMMARY:PMM Noon Knot Club
DESCRIPTION:Bring a brown bag lunch\, picnic blanket or lawn chair\, and your knot project and join us for some crafting and conversation. We will provide participants with a packet including string and instructions for several knot projects. This is a casual crafting hour   our staff and volunteers will offer guidance but generally the knotting is self-led. Recommended supplies to bring include small needle-nosed pliers\, sharp scissors\, a butane lighter\, and additional string or rope if desired. Recommended books are Des Pawson's Knot Craft\, Stuart Grainger's Creative Ropecraft\, and The Marlinspike Sailor by Hervey Garrett Smith. Canceled on rainy days. Join the group on the grass near the Camera Obscura.\n\n\n\nTo ensure your visit is enjoyable and safe for everyone involved\, please read over the guidelines below.\n\n\n\nPMM staff will greet you with face coverings and wear them whenever in public spaces or group settings on our campus.\n\nPMM staff will have hand sanitizer available\, will maintain 6 feet of distance\, and will conduct the program in outdoor areas and well-ventilated buildings\n\nIf you or someone in your household has symptoms of COVID-19 or a confirmed case of COVID-19\, or if you or someone in your household has been in contact with someone with a confirmed case of COVID-19\, please cancel your reservation. Refunds are easy and available.\n\nFace coverings are encouraged for participants\n\nMaintain 6 feet between your household and anyone else\n\nThere are no bathrooms open to the public during this program
X-ALT-DESC;FMTTYPE=text/html:<span style="color: rgb(29\, 33\, 41)\; font-family: Helvetica\, Arial\, sans-serif\; font-size: 14px\; white-space: pre-wrap\;">Bring a brown bag lunch\, picnic blanket or lawn chair\, and your knot project and join us for some crafting and conversation. We will provide participants with a packet including string and instructions for several knot projects. This is a casual crafting hour &ndash\; our staff and volunteers will offer guidance but generally the knotting is self-led. Recommended supplies to bring include small needle-nosed pliers\, sharp scissors\, a butane lighter\, and additional string or rope if desired. Recommended books are Des Pawson&rsquo\;s Knot Craft\, Stuart Grainger&rsquo\;s Creative Ropecraft\, and The Marlinspike Sailor by Hervey Garrett Smith. Canceled on rainy days. Join the group on the grass near the Camera Obscura.</span><br style="color: rgb(29\, 33\, 41)\; font-family: Helvetica\, Arial\, sans-serif\; font-size: 14px\; white-space: pre-wrap\;" />\n<br style="color: rgb(29\, 33\, 41)\; font-family: Helvetica\, Arial\, sans-serif\; font-size: 14px\; white-space: pre-wrap\;" />\n<span style="color: rgb(29\, 33\, 41)\; font-family: Helvetica\, Arial\, sans-serif\; font-size: 14px\; white-space: pre-wrap\;">To ensure your visit is enjoyable and safe for everyone involved\, please read over the guidelines below.</span><br style="color: rgb(29\, 33\, 41)\; font-family: Helvetica\, Arial\, sans-serif\; font-size: 14px\; white-space: pre-wrap\;" />\n<br style="color: rgb(29\, 33\, 41)\; font-family: Helvetica\, Arial\, sans-serif\; font-size: 14px\; white-space: pre-wrap\;" />\n<span style="color: rgb(29\, 33\, 41)\; font-family: Helvetica\, Arial\, sans-serif\; font-size: 14px\; white-space: pre-wrap\;">PMM staff will greet you with face coverings and wear them whenever in public spaces or group settings on our campus.</span><br style="color: rgb(29\, 33\, 41)\; font-family: Helvetica\, Arial\, sans-serif\; font-size: 14px\; white-space: pre-wrap\;" />\n<span style="color: rgb(29\, 33\, 41)\; font-family: Helvetica\, Arial\, sans-serif\; font-size: 14px\; white-space: pre-wrap\;">PMM staff will have hand sanitizer available\, will maintain 6 feet of distance\, and will conduct the program in outdoor areas and well-ventilated buildings</span><br style="color: rgb(29\, 33\, 41)\; font-family: Helvetica\, Arial\, sans-serif\; font-size: 14px\; white-space: pre-wrap\;" />\n<span style="color: rgb(29\, 33\, 41)\; font-family: Helvetica\, Arial\, sans-serif\; font-size: 14px\; white-space: pre-wrap\;">If you or someone in your household has symptoms of COVID-19 or a confirmed case of COVID-19\, or if you or someone in your household has been in contact with someone with a confirmed case of COVID-19\, please cancel your reservation. Refunds are easy and available.</span><br style="color: rgb(29\, 33\, 41)\; font-family: Helvetica\, Arial\, sans-serif\; font-size: 14px\; white-space: pre-wrap\;" />\n<span style="color: rgb(29\, 33\, 41)\; font-family: Helvetica\, Arial\, sans-serif\; font-size: 14px\; white-space: pre-wrap\;">Face coverings are encouraged for participants</span><br style="color: rgb(29\, 33\, 41)\; font-family: Helvetica\, Arial\, sans-serif\; font-size: 14px\; white-space: pre-wrap\;" />\n<span style="color: rgb(29\, 33\, 41)\; font-family: Helvetica\, Arial\, sans-serif\; font-size: 14px\; white-space: pre-wrap\;">Maintain 6 feet between your household and anyone else</span><br style="color: rgb(29\, 33\, 41)\; font-family: Helvetica\, Arial\, sans-serif\; font-size: 14px\; white-space: pre-wrap\;" />\n<span style="color: rgb(29\, 33\, 41)\; font-family: Helvetica\, Arial\, sans-serif\; font-size: 14px\; white-space: pre-wrap\;">There are no bathrooms open to the public during this program</span>
LOCATION:
UID:e.3098.3332
SEQUENCE:3
DTSTAMP:20260422T141229Z
URL:https://business.belfastmaine.org/events/details/pmm-noon-knot-club-3332
END:VEVENT

END:VCALENDAR
