BEGIN:VCALENDAR
VERSION:2.0
PRODID:-//ChamberMaster//Event Calendar 2.0//EN
METHOD:PUBLISH
X-PUBLISHED-TTL:P3D
REFRESH-INTERVAL:P3D
CALSCALE:GREGORIAN
BEGIN:VEVENT
DTSTART:20250410T193000Z
DTEND:20250410T213000Z
X-MICROSOFT-CDO-ALLDAYEVENT:FALSE
SUMMARY:Pysanky Egg Decorating with Lesia Sochor
DESCRIPTION:Join us for a Pysanky egg decorating workshop with Ukrainian artist Lesia Sochor!\n\nLesia is back at Waterfall Arts this spring to share the ancient ritual of transforming an ordinary egg into a 'Pysanka\,' which can be traced as far back as 5000BC. Seen as the embodiment of the renewal of life\, they were a source of wonder and magic for primitive people. The egg continues its talismanic powers to this day as a spring tradition\, now associated with Easter\, as it is passed down from one generation to the next. Lesia was taught this exquisite art form by her Ukrainian mother. She celebrates her cultural roots and stays connected to her homeland\, in this annual decoration of Pysanky.\n\n?Designs are drawn on the egg with melted beeswax which flows from a tool called a 'Kystka'. The eggs are then dipped in a series of dyes and the final pattern is revealed when the wax is removed. All materials are provided. Ages (9   11 if accompanied by a caregiver) 12+
X-ALT-DESC;FMTTYPE=text/html:<p style="margin-left:0in\; margin-right:0in"><span style="color:rgb(20\, 24\, 39)\; font-family:helvetica neue">Join us for a Pysanky egg decorating workshop with Ukrainian artist Lesia Sochor!</span></p>\n\n<p style="margin-left:0in\; margin-right:0in"><span style="color:rgb(20\, 24\, 39)\; font-family:helvetica neue">Lesia is back at Waterfall Arts this spring to share the ancient ritual of transforming an ordinary egg into a &lsquo\;Pysanka\,&rsquo\; which can be traced as far back as 5000BC. Seen as the embodiment of the renewal of life\, they were a source of wonder and magic for primitive people. The egg continues its talismanic powers to this day as a spring tradition\, now associated with Easter\, as it is passed down from one generation to the next. Lesia was taught this exquisite art form by her Ukrainian mother. She celebrates her cultural roots and stays connected to her homeland\, in this annual decoration of Pysanky.</span></p>\n\n<p style="margin-left:0in\; margin-right:0in"><span style="color:rgb(20\, 24\, 39)\; font-family:helvetica neue">?Designs are drawn on the egg with melted beeswax which flows from a tool called a &lsquo\;Kystka&rsquo\;. The eggs are then dipped in a series of dyes and the final pattern is revealed when the wax is removed. All materials are provided. Ages (9 &ndash\; 11 if accompanied by a caregiver) 12+</span></p>\n
LOCATION:Waterfall Arts 256 High Street Belfast\, ME 04915
UID:e.3098.10624
SEQUENCE:3
DTSTAMP:20260422T203948Z
URL:https://business.belfastmaine.org/events/details/pysanky-egg-decorating-with-lesia-sochor-10624
END:VEVENT

END:VCALENDAR
