BEGIN:VCALENDAR
VERSION:2.0
PRODID:-//ChamberMaster//Event Calendar 2.0//EN
METHOD:PUBLISH
X-PUBLISHED-TTL:P3D
REFRESH-INTERVAL:P3D
CALSCALE:GREGORIAN
BEGIN:VEVENT
DTSTART:20201022T133000Z
DTEND:20201022T143000Z
X-MICROSOFT-CDO-ALLDAYEVENT:FALSE
SUMMARY:Ribbon Cutting at The Scone Goddess
DESCRIPTION:Join The Scone Goddess in celebrating our new space at 21 Verona Street in Northport.\n\nOn October 22. There will be a\n\nRibbon Cutting Ceremony at 9:30 am followed by Free Scones from 9:30-10:30 (Or until we run out.)\n\nEnter to win a gift basket full of Scone Goddess Mixes and Swag by private messaging The Scone Goddess on Facebook with your name\, email and the note Congratulations!\n\nPlease note that social distancing and the wearing of masks is required.
X-ALT-DESC;FMTTYPE=text/html:<span style="color: rgb(5\, 5\, 5)\; font-family: &quot\;Segoe UI Historic&quot\;\, &quot\;Segoe UI&quot\;\, Helvetica\, Arial\, sans-serif\; font-size: 15px\;">Join The Scone Goddess in celebrating our new space at 21 Verona Street in Northport.</span><br style="color: rgb(5\, 5\, 5)\; font-family: &quot\;Segoe UI Historic&quot\;\, &quot\;Segoe UI&quot\;\, Helvetica\, Arial\, sans-serif\; font-size: 15px\;" />\n<span style="color: rgb(5\, 5\, 5)\; font-family: &quot\;Segoe UI Historic&quot\;\, &quot\;Segoe UI&quot\;\, Helvetica\, Arial\, sans-serif\; font-size: 15px\;">On October 22. There will be a</span><br style="color: rgb(5\, 5\, 5)\; font-family: &quot\;Segoe UI Historic&quot\;\, &quot\;Segoe UI&quot\;\, Helvetica\, Arial\, sans-serif\; font-size: 15px\;" />\n<span style="color: rgb(5\, 5\, 5)\; font-family: &quot\;Segoe UI Historic&quot\;\, &quot\;Segoe UI&quot\;\, Helvetica\, Arial\, sans-serif\; font-size: 15px\;">Ribbon Cutting Ceremony at 9:30 am followed by Free Scones from 9:30-10:30 (Or until we run out.)</span><br style="color: rgb(5\, 5\, 5)\; font-family: &quot\;Segoe UI Historic&quot\;\, &quot\;Segoe UI&quot\;\, Helvetica\, Arial\, sans-serif\; font-size: 15px\;" />\n<span style="color: rgb(5\, 5\, 5)\; font-family: &quot\;Segoe UI Historic&quot\;\, &quot\;Segoe UI&quot\;\, Helvetica\, Arial\, sans-serif\; font-size: 15px\;">Enter to win a gift basket full of Scone Goddess Mixes and Swag by private messaging The Scone Goddess on Facebook with your name\, email and the note Congratulations!</span><br style="color: rgb(5\, 5\, 5)\; font-family: &quot\;Segoe UI Historic&quot\;\, &quot\;Segoe UI&quot\;\, Helvetica\, Arial\, sans-serif\; font-size: 15px\;" />\n<span style="color: rgb(5\, 5\, 5)\; font-family: &quot\;Segoe UI Historic&quot\;\, &quot\;Segoe UI&quot\;\, Helvetica\, Arial\, sans-serif\; font-size: 15px\;">Please note that social distancing and the wearing of masks is required.</span>
LOCATION:
UID:e.3098.3425
SEQUENCE:3
DTSTAMP:20260422T090100Z
URL:https://business.belfastmaine.org/events/details/ribbon-cutting-at-the-scone-goddess-3425
END:VEVENT

END:VCALENDAR
