BEGIN:VCALENDAR
VERSION:2.0
PRODID:-//ChamberMaster//Event Calendar 2.0//EN
METHOD:PUBLISH
X-PUBLISHED-TTL:P3D
REFRESH-INTERVAL:P3D
CALSCALE:GREGORIAN
BEGIN:VEVENT
DTSTART:20250531T160000Z
DTEND:20250531T200000Z
X-MICROSOFT-CDO-ALLDAYEVENT:FALSE
SUMMARY:Sculpted Paper Flowers
DESCRIPTION:Join us to learn the basics of paper sculpting while creating a flower bouquet for Spring. Using techniques like\, cupping\, curling\, scoring\, spiraling\, crimping and fringing\, we will create roses\, asters\, poppies\, lilies and more. Materials & tools provided. This class is a great accompaniment to the Decorative Paste Papers workshop on May 24.\n\nAbout the instructor: Joelle Webber\, our guest instructor for this class\, has spent 40 years collecting book arts techniques in college & workshop settings. She now designs classes for many different communities of makers based on her experience in writing\, paper decorating\, collage\, calligraphy\, pop-up\, paper sculpting\, book binding and box making.
X-ALT-DESC;FMTTYPE=text/html:<p style="margin-left:0in\; margin-right:0in"><span style="color:rgb(20\, 24\, 39)\; font-family:helvetica neue">Join us to learn the basics of paper sculpting while creating a flower bouquet for Spring. Using techniques like\, cupping\, curling\, scoring\, spiraling\, crimping and fringing\, we will create roses\, asters\, poppies\, lilies and more. Materials &amp\; tools provided. This class is a great accompaniment to the&nbsp\;<a href="https://waterfallarts.org/event/book-arts-decorative-paste-papers/" style="color: var( --e-global-color-primary )\; box-sizing: border-box\; border-bottom: var(--tec-color-link-accent)\; transition: var(--tec-transition-color)\;">Decorative Paste Papers</a>&nbsp\;workshop on May 24.</span></p>\n\n<p style="margin-left:0in\; margin-right:0in"><strong><span style="color:rgb(20\, 24\, 39)\; font-family:helvetica neue">About the instructor: Joelle Webber</span></strong><span style="color:rgb(20\, 24\, 39)\; font-family:helvetica neue">\, our guest instructor for this class\, has spent 40 years collecting book arts techniques in college &amp\; workshop settings. She now designs classes for many different communities of makers based on her experience in writing\, paper decorating\, collage\, calligraphy\, pop-up\, paper sculpting\, book binding and box making.</span></p>\n
LOCATION:Waterfall Arts 256 High Street Belfast\, ME 04915
UID:e.3098.10679
SEQUENCE:3
DTSTAMP:20260426T015019Z
URL:https://business.belfastmaine.org/events/details/sculpted-paper-flowers-10679
END:VEVENT

END:VCALENDAR
